BEGIN:VCALENDAR
VERSION:2.0
PRODID:-//m2A le mag - Mulhouse Alsace Agglomération - ECPv6.15.11//NONSGML v1.0//EN
CALSCALE:GREGORIAN
METHOD:PUBLISH
X-WR-CALNAME:m2A le mag - Mulhouse Alsace Agglomération
X-ORIGINAL-URL:https://mag.mulhouse-alsace.fr
X-WR-CALDESC:Évènements pour m2A le mag - Mulhouse Alsace Agglomération
REFRESH-INTERVAL;VALUE=DURATION:PT1H
X-Robots-Tag:noindex
X-PUBLISHED-TTL:PT1H
BEGIN:VTIMEZONE
TZID:Europe/Paris
BEGIN:DAYLIGHT
TZOFFSETFROM:+0100
TZOFFSETTO:+0200
TZNAME:CEST
DTSTART:20220327T010000
END:DAYLIGHT
BEGIN:STANDARD
TZOFFSETFROM:+0200
TZOFFSETTO:+0100
TZNAME:CET
DTSTART:20221030T010000
END:STANDARD
BEGIN:DAYLIGHT
TZOFFSETFROM:+0100
TZOFFSETTO:+0200
TZNAME:CEST
DTSTART:20230326T010000
END:DAYLIGHT
BEGIN:STANDARD
TZOFFSETFROM:+0200
TZOFFSETTO:+0100
TZNAME:CET
DTSTART:20231029T010000
END:STANDARD
BEGIN:DAYLIGHT
TZOFFSETFROM:+0100
TZOFFSETTO:+0200
TZNAME:CEST
DTSTART:20240331T010000
END:DAYLIGHT
BEGIN:STANDARD
TZOFFSETFROM:+0200
TZOFFSETTO:+0100
TZNAME:CET
DTSTART:20241027T010000
END:STANDARD
BEGIN:DAYLIGHT
TZOFFSETFROM:+0100
TZOFFSETTO:+0200
TZNAME:CEST
DTSTART:20250330T010000
END:DAYLIGHT
BEGIN:STANDARD
TZOFFSETFROM:+0200
TZOFFSETTO:+0100
TZNAME:CET
DTSTART:20251026T010000
END:STANDARD
BEGIN:DAYLIGHT
TZOFFSETFROM:+0100
TZOFFSETTO:+0200
TZNAME:CEST
DTSTART:20260329T010000
END:DAYLIGHT
BEGIN:STANDARD
TZOFFSETFROM:+0200
TZOFFSETTO:+0100
TZNAME:CET
DTSTART:20261025T010000
END:STANDARD
END:VTIMEZONE
BEGIN:VEVENT
DTSTART;VALUE=DATE:20250622
DTEND;VALUE=DATE:20250623
DTSTAMP:20260425T020540
CREATED:20250411T081754Z
LAST-MODIFIED:20250611T145437Z
UID:10009719-1750550400-1750636799@mag.mulhouse-alsace.fr
SUMMARY:Crapod'Esch 2025 à Eschentzwiller
DESCRIPTION:La traditionnelle fête du village d’Eschentzwiller\, les Crapod’Esch\, accueillera une spectaculaire course de caisses à savon folkloriques\, dimanche 22 juin 2025. Un spectacle mouvementé qui promet une journée pleine d’émotions pour les petits et les grands ! \nAu programme :\n\nExposition de voitures anciennes et de motos de légende\,\nDébut de la course des caisses à savon à 09h30\,\nRestauration à partir de midi\,\nJeux et animations toute la journée\,\nClub de modélisme sur l’étang\,\nExposition de voitures anciennes et de motos de légende\,\nSimulateur de conduite\,\nAnimations musicales et spectacle de danse\,\nBaptême de l’air en hélicoptère\,\nRemise de prix vers 17h30.\n\nInformations pratiques :\n\nContact : contact@uae68.fr\nRenseignements : 03 89 44 38 92\n\nPLUS D’INFOS \n\nEschentzwiller est une commune membre de m2A. Elle dispose d’une bibliothèque\, d’un lieu de culte\, d’une eau 100% naturelle\, d’animations culturelles… \nDÉCOUVRIR TOUS LES ÉVÉNEMENTS
URL:https://mag.mulhouse-alsace.fr/evenement/crapodesch-2025-a-eschentzwiller/
LOCATION:Centre-village\, Eschentzwiller\, 1 rue des Tilleuls\, Eschentzwiller\, 68440\, France
CATEGORIES:Fête populaire
ATTACH;FMTTYPE=image/jpeg:https://mag.mulhouse-alsace.fr/wp-content/uploads/2022/06/course-caisses-a-savon-eschentzwiller.jpg
END:VEVENT
BEGIN:VEVENT
DTSTART;VALUE=DATE:20230827
DTEND;VALUE=DATE:20230828
DTSTAMP:20260425T020540
CREATED:20230809T083726Z
LAST-MODIFIED:20230809T083726Z
UID:10002968-1693094400-1693180799@mag.mulhouse-alsace.fr
SUMMARY:Marché aux puces à Eschentzwiller
DESCRIPTION:L’association sportive\, culturelle et de loisirs (ASCL) d’Eschentzwiller vous convie à son 34e marché aux puces. \nInformations pratiques : \n\nEnviron 130 places\n15 euros l’emplacement de 5 m sur 3 m\nUne caution de 20 euros est également demandée\nInscription par téléphone au 06 84 54 89 67 ou par mail à bruno.casi@orange.fr\nBuvette\n\n\nEschentzwiller est une commune de 1 519 habitants appelés “eschentzwillerois”. La commune dispose d’une bibliothèque\, d’un lieu de culte\, d’une eau 100% naturelle\, d’animations culturelles … \nDÉCOUVRIR TOUS LES ÉVÉNEMENTS
URL:https://mag.mulhouse-alsace.fr/evenement/marche-aux-puces-a-eschentzwiller-2023-2/
LOCATION:Centre-village\, Eschentzwiller\, 1 rue des Tilleuls\, Eschentzwiller\, 68440\, France
CATEGORIES:Marché aux puces
ATTACH;FMTTYPE=image/jpeg:https://mag.mulhouse-alsace.fr/wp-content/uploads/2023/08/marche-aux-puces-eschentzwiller-2023.jpg
END:VEVENT
END:VCALENDAR