BEGIN:VCALENDAR
VERSION:2.0
PRODID:-//m2A le mag - Mulhouse Alsace Agglomération - ECPv6.15.11//NONSGML v1.0//EN
CALSCALE:GREGORIAN
METHOD:PUBLISH
X-ORIGINAL-URL:https://mag.mulhouse-alsace.fr
X-WR-CALDESC:Évènements pour m2A le mag - Mulhouse Alsace Agglomération
REFRESH-INTERVAL;VALUE=DURATION:PT1H
X-Robots-Tag:noindex
X-PUBLISHED-TTL:PT1H
BEGIN:VTIMEZONE
TZID:Europe/Paris
BEGIN:DAYLIGHT
TZOFFSETFROM:+0100
TZOFFSETTO:+0200
TZNAME:CEST
DTSTART:20250330T010000
END:DAYLIGHT
BEGIN:STANDARD
TZOFFSETFROM:+0200
TZOFFSETTO:+0100
TZNAME:CET
DTSTART:20251026T010000
END:STANDARD
BEGIN:DAYLIGHT
TZOFFSETFROM:+0100
TZOFFSETTO:+0200
TZNAME:CEST
DTSTART:20260329T010000
END:DAYLIGHT
BEGIN:STANDARD
TZOFFSETFROM:+0200
TZOFFSETTO:+0100
TZNAME:CET
DTSTART:20261025T010000
END:STANDARD
BEGIN:DAYLIGHT
TZOFFSETFROM:+0100
TZOFFSETTO:+0200
TZNAME:CEST
DTSTART:20270328T010000
END:DAYLIGHT
BEGIN:STANDARD
TZOFFSETFROM:+0200
TZOFFSETTO:+0100
TZNAME:CET
DTSTART:20271031T010000
END:STANDARD
END:VTIMEZONE
BEGIN:VEVENT
DTSTART;VALUE=DATE:20260508
DTEND;VALUE=DATE:20260518
DTSTAMP:20260422T182415
CREATED:20260422T092217Z
LAST-MODIFIED:20260422T092259Z
UID:10010876-1778198400-1779062399@mag.mulhouse-alsace.fr
SUMMARY:Fête du Cochon 2026 à Ungersheim
DESCRIPTION:Grande fête populaire alsacienne\, la Fête du Cochon à Ungersheim revient pour une nouvelle édition vendredi 08\, samedi 09\, dimanche 10\, mercredi 13\, jeudi 14\, vendredi 15\, samedi 16 et dimanche 17 mai 2026. Événement emblématique de la commune\, la Fête du Cochon rassemble chaque année plus de 1 600 personnes. Soirées animées par un DJ\, bals populaires\, courses de cochon\, épreuves sportives ou encore élection de Miss rythment la fête. Les participants viennent également y déguster des plats typiques d’Alsace. \nVendredi 08 mai 2026 : Electro session 1\n\nUne soirée où la trance\, le hardstyle et la hardtech sont à l’honneur\,\nOuverture du chapiteau à 20h30\,\nDébut de la soirée à 22h00\,\nPetite restauration sur place\,\nTarif : 13 € (à partir de 14 ans\, les mineurs de moins de 16 ans doivent être accompagnés).\n\nSamedi 09 mai 2026 : Soirée années 80\n\nOuverture du chapiteau à 19h00\, début de la soirée à 20h00\,\nSoirée dansante avec l’Orchestre Challenger\,\nRepas sur place\,\nEntrée : 13 € (payante à partir de 14 ans).\n\nDimanche 10 mai 2026 : Marche gourmande et élection de Miss Schiffala\nLa marche gourmande du Cochonnet fête sa 5e édition : \n\nAu menu : café\, jus d’orange\, brioche\, apéritif\, bretzel\, salade vigneronne et trou alsacien\,\nRepas sous le chapiteau\,\nTarif : 32 € sur réservation pour les adultes.\n\nAutres animations :  \n\nÉlection de Miss Schiffala et de ses dauphines\,\nÀ 16h00 et 17h00 : les traditionnelles courses de cochons.\n\nMercredi 13 mai 2026 : Soirée DJ Mast (génération 90-2000)\n\nAvec DJ Mast\,\nOuverture du chapiteau à 19h00\,\nLa soirée commence à 22h00\,\nRepas sur place\,\nTarif : 13 € à partir de 14 ans\n\nJeudi 14 mai 2026 : Les Foulées d’Ungersheim\, après-midi et soirée dansantes\nLes Foulées d’Ungersheim : \n\n09h30 : canicross (7\,8 kilomètres)\,\n09h45 : canitrail (12\,5 kilomètres)\,\n10h00 : course nature (12\,5 kilomètres)\,\n10h05 : marche nordique (12\,5 kilomètres)\,\n14h30 : balade familiale (6 kilomètres)\,\n14h45 : courses canines jeunes\,\n15h00 : courses des jeunes\,\n15h30 : familia renna (équipe de 2 coureurs enfants de 6 à 15 ans et d’un adulte)\,\n16h45 : course duo (8\,5 kilomètres)\,\n17h30 : la Petite Nature (nouveauté 2026 de 7\,8 kilomètres).\n\nLes Melodys Boy’s sont sous le chapiteau pour accueillir les danseurs (à 11h30 et l’entrée est libre). \nVendredi 15 mai 2026 : Mini Mousse Party et Big Mousse Party\nMini-Mousse Party : \n\nDe 16h00 à 18h30\,\nTarif : 5 € par enfant\,\nPour les enfants de 3 à 12 ans\,\nPetite restauration sur place.\n\nBig Mousse Party : \n\nDe 20h30 à 02h30\,\nTarif : 13 € (à partir de 12 ans)\,\nAnimée par ASTEP Event\,\nPetite restauration sur place.\n\nSamedi 16 mai 2026 : Soirée « Années Tubes »\n\nOuverture du chapiteau à 19h00\, début de la soirée à 20h00\,\nSoirée dansante avec l’Orchestre Challenger\,\nRepas sur place\,\nEntrée : 13 € (à partir de 14 ans).\n\nDimanche 17 mai 2026 : Clôture festive\nAprès-midi et soirée dansantes pour la clôture de la Fête du Cochon : \n\nBal avec l’Orchestre Santa Esmeralda et Rino Lombardi\,\nEntrée libre\,\nDe 12h00 à 15h00\,\nDe 19h30 à 23h00\,\nRestauration à partir de 12h00 et 18h30\,\nCourses de cochons à 16h00 et 17h00\,\nÀ 21h00 : flash mob et clôture de la Fête du Cochon.\n\n\nSituée dans le Haut-Rhin (Alsace)\, en région Grand Est\, Ungersheim est une commune membre de m2A. Elle dispose d’un périscolaire\, de commerces\, de restaurants\, d’associations mais également de deux parcs touristiques : L’Écomusée d’Alsace et le Parc du petit Prince. \nDÉCOUVRIR TOUS LES ÉVÉNEMENTS
URL:https://mag.mulhouse-alsace.fr/evenement/fete-du-cochon-2026-a-ungersheim/
LOCATION:Centre-village\, Ungersheim\, Place de la Mairie\, Ungersheim\, 68190\, France
CATEGORIES:Fête populaire
ATTACH;FMTTYPE=image/jpeg:https://mag.mulhouse-alsace.fr/wp-content/uploads/2024/01/fete-du-cochon-2024-ungersheim.jpg
END:VEVENT
END:VCALENDAR