BEGIN:VCALENDAR
VERSION:2.0
PRODID:-//m2A le mag - Mulhouse Alsace Agglomération - ECPv6.15.11//NONSGML v1.0//EN
CALSCALE:GREGORIAN
METHOD:PUBLISH
X-WR-CALNAME:m2A le mag - Mulhouse Alsace Agglomération
X-ORIGINAL-URL:https://mag.mulhouse-alsace.fr
X-WR-CALDESC:Évènements pour m2A le mag - Mulhouse Alsace Agglomération
REFRESH-INTERVAL;VALUE=DURATION:PT1H
X-Robots-Tag:noindex
X-PUBLISHED-TTL:PT1H
BEGIN:VTIMEZONE
TZID:Europe/Paris
BEGIN:DAYLIGHT
TZOFFSETFROM:+0100
TZOFFSETTO:+0200
TZNAME:CEST
DTSTART:20250330T010000
END:DAYLIGHT
BEGIN:STANDARD
TZOFFSETFROM:+0200
TZOFFSETTO:+0100
TZNAME:CET
DTSTART:20251026T010000
END:STANDARD
BEGIN:DAYLIGHT
TZOFFSETFROM:+0100
TZOFFSETTO:+0200
TZNAME:CEST
DTSTART:20260329T010000
END:DAYLIGHT
BEGIN:STANDARD
TZOFFSETFROM:+0200
TZOFFSETTO:+0100
TZNAME:CET
DTSTART:20261025T010000
END:STANDARD
BEGIN:DAYLIGHT
TZOFFSETFROM:+0100
TZOFFSETTO:+0200
TZNAME:CEST
DTSTART:20270328T010000
END:DAYLIGHT
BEGIN:STANDARD
TZOFFSETFROM:+0200
TZOFFSETTO:+0100
TZNAME:CET
DTSTART:20271031T010000
END:STANDARD
END:VTIMEZONE
BEGIN:VEVENT
DTSTART;TZID=Europe/Paris:20260620T160000
DTEND;TZID=Europe/Paris:20260620T180000
DTSTAMP:20260421T145031
CREATED:20260326T145356Z
LAST-MODIFIED:20260326T145356Z
UID:10010770-1781971200-1781978400@mag.mulhouse-alsace.fr
SUMMARY:Sortie "Les arbres\, témoins de l’histoire" à Heimsbrunn
DESCRIPTION:Les arbres\, témoins de l’histoire\nLes récits des anciens de nos forêts : partez à la découverte de ces témoins de l’histoire. \nInformations pratiques :\n\nSamedi 20 juin 2026\,\n16h00\,\nDurée : 2 heures\,\nGratuit\,\nInscription obligatoire – 16 places disponibles\,\nLieu de rendez-vous : Chapelle Notre-Dame du Chêne (Ramahaye).\n\nJE M’INSCRIS \n\nCet événement fait partie du programme « La Nature près de chez moi »\, élaboré par les Centres d’Initiation à la Nature et à l’Environnement (CINE)\, le Moulin Nature et la Petite Camargue Alsacienne. Apprendre à connaître la nature pour mieux la protéger est un objectif du Plan Climat Nouvelle Donne m2A. \nTOUT LE PROGRAMME « LA NATURE PRÈS DE CHEZ MOI »  \n\n\nLe Moulin Nature est un Centre d’Initiation à la Nature et à l’Environnement (CINE). Nous y retrouvons des animations tous publics ainsi que des actions et une sensibilisation autour de la biodiversité.
URL:https://mag.mulhouse-alsace.fr/evenement/sortie-les-arbres-temoins-de-lhistoire-a-heimsbrunn-2026/
LOCATION:Chapelle Notre-Dame du Chêne\, Heimsbrunn\, D166\, Heimsbrunn\, 68990
CATEGORIES:Atelier
ATTACH;FMTTYPE=image/jpeg:https://mag.mulhouse-alsace.fr/wp-content/uploads/2026/03/2026-les-arbres-temoins-de-l-histoire.jpg
END:VEVENT
END:VCALENDAR