BEGIN:VCALENDAR
VERSION:2.0
PRODID:-//m2A le mag - Mulhouse Alsace Agglomération - ECPv6.15.11//NONSGML v1.0//EN
CALSCALE:GREGORIAN
METHOD:PUBLISH
X-WR-CALNAME:m2A le mag - Mulhouse Alsace Agglomération
X-ORIGINAL-URL:https://mag.mulhouse-alsace.fr
X-WR-CALDESC:Évènements pour m2A le mag - Mulhouse Alsace Agglomération
REFRESH-INTERVAL;VALUE=DURATION:PT1H
X-Robots-Tag:noindex
X-PUBLISHED-TTL:PT1H
BEGIN:VTIMEZONE
TZID:Europe/Paris
BEGIN:DAYLIGHT
TZOFFSETFROM:+0100
TZOFFSETTO:+0200
TZNAME:CEST
DTSTART:20230326T010000
END:DAYLIGHT
BEGIN:STANDARD
TZOFFSETFROM:+0200
TZOFFSETTO:+0100
TZNAME:CET
DTSTART:20231029T010000
END:STANDARD
BEGIN:DAYLIGHT
TZOFFSETFROM:+0100
TZOFFSETTO:+0200
TZNAME:CEST
DTSTART:20240331T010000
END:DAYLIGHT
BEGIN:STANDARD
TZOFFSETFROM:+0200
TZOFFSETTO:+0100
TZNAME:CET
DTSTART:20241027T010000
END:STANDARD
BEGIN:DAYLIGHT
TZOFFSETFROM:+0100
TZOFFSETTO:+0200
TZNAME:CEST
DTSTART:20250330T010000
END:DAYLIGHT
BEGIN:STANDARD
TZOFFSETFROM:+0200
TZOFFSETTO:+0100
TZNAME:CET
DTSTART:20251026T010000
END:STANDARD
END:VTIMEZONE
BEGIN:VEVENT
DTSTART;TZID=Europe/Paris:20240602T163000
DTEND;TZID=Europe/Paris:20240602T163000
DTSTAMP:20260421T224656
CREATED:20240515T082743Z
LAST-MODIFIED:20240515T082940Z
UID:10008202-1717345800-1717345800@mag.mulhouse-alsace.fr
SUMMARY:Concert caritatif à Mulhouse
DESCRIPTION:Le Club Rotary Mulhouse Rhin organise un concert caritatif\, présenté par la Chorale Alliance de Mulhouse\, au profit de l’Institut de Recherche en Hématologie et Transplantation (IRHT). Chants chrétiens et profanes seront au programme. L’occasion de profiter d’un moment mélodieux inoubliable tout en soutenant une noble cause. \nLa Chorale Alliance\nPrésidée par Daniel Vonthron\, la Chorale Alliance\, unique chœur d’hommes encore en activité sur la place mulhousienne\, est un ensemble polyphonique perpétuant la tradition des grands chœurs d’hommes d’Alsace. Elle constitue aujourd’hui encore une référence reconnue dans la région pour sa musicalité et la qualité de ses interprétations. Depuis septembre 2023\, le chœur est placé sous la direction musicale d’Ilaha Ahui (chanteuse\, pianiste\, compositrice\, directrice d’une école de musique à Sélestat). \nL’IRHT\nCréé en 1987 par le Docteur Philippe Hénon\, l’Institut de Recherche en Hématologie et Transplantation (IRHT)\, soutenu par m2A\, lutte contre les leucémies et autres maladies du sang et dispose d’une expertise mondialement reconnue dans le domaine des cellules-souches sanguines. \nInformations pratiques\n\nDimanche 02 juin 2024 à 16h30\nÉglise Saint-Étienne à Mulhouse\nBilletterie en ligne ou sur place avant le début du concert\n\nBILLETTERIE \n\nInscrite au titre des Monuments historiques\, l’Église Saint-Etienne à Mulhouse est un édifice remarquable. Elle se distingue par ses dimensions semblables à une cathédrale. \nDÉCOUVRIR TOUS LES ÉVÉNEMENTS
URL:https://mag.mulhouse-alsace.fr/evenement/concert-caritatif-irht-a-mulhouse-2024/
LOCATION:Eglise Saint-Etienne\, Mulhouse\, 10 rue Magenta\, Mulhouse\, 68100\, France
CATEGORIES:Concert
ATTACH;FMTTYPE=image/jpeg:https://mag.mulhouse-alsace.fr/wp-content/uploads/2024/05/concert-caritatif-rotary-club-chorale-alliance-irht-mulhouse-2024.jpg
END:VEVENT
BEGIN:VEVENT
DTSTART;VALUE=DATE:20240222
DTEND;VALUE=DATE:20240318
DTSTAMP:20260421T224656
CREATED:20240117T091927Z
LAST-MODIFIED:20240130T153832Z
UID:10003646-1708560000-1710719999@mag.mulhouse-alsace.fr
SUMMARY:"Terra Alsatia\, Aux lueurs de l'Histoire" à Mulhouse
DESCRIPTION:Découvrez le fabuleux spectacle de son et de lumière « Terra Alsatia\, Aux lueurs de l’Histoire »\, organisé par l’artiste Damien Fontaine\, l’Église Saint-Etienne et l’entreprise TSE. Sous forme de vidéomapping immersif\, le spectacle retrace l’Histoire de l’Alsace de 1859 à 1945. Pour l’occasion\, des techniques spectaculaires dignes des plus grandes comédies musicales parisiennes seront déployées. Grâce à plus de 400 projecteurs\, les détails de l’édifice et sa nef pourront être mis en lumière. 200 bénévoles venant de toute l’Agglomération vont être mobilisés pour ce temps fort. \nInformations pratiques \n\nTous les jours\, du jeudi 22 février 2024 au dimanche 17 mars 2024\n2 représentations par soir à 18h45 et à 21h00\nIl est conseillé d’arriver 20 minutes à l’avance\nDès 6 ans\nPlaces assises\, placement libre\nTarifs : de 15 euros à 35 euros\n\nBILLETTERIE  \n\nInscrite au titre des Monuments historiques depuis le 09 février 2007\, l’Église Saint-Etienne à Mulhouse est un édifice remarquable. Elle se distingue par ses dimensions semblables à une cathédrale. \nDÉCOUVRIR TOUS LES ÉVÉNEMENTS
URL:https://mag.mulhouse-alsace.fr/evenement/terra-alsatia-aux-lueurs-de-lhistoire-a-mulhouse-2024/
LOCATION:Eglise Saint-Etienne\, Mulhouse\, 10 rue Magenta\, Mulhouse\, 68100\, France
CATEGORIES:Spectacle
ATTACH;FMTTYPE=image/jpeg:https://mag.mulhouse-alsace.fr/wp-content/uploads/2023/12/spectacle-terra-alsatia-eglise-saint-etienne-mulhouse.jpg
END:VEVENT
END:VCALENDAR