BEGIN:VCALENDAR
VERSION:2.0
PRODID:-//m2A le mag - Mulhouse Alsace Agglomération - ECPv6.15.11//NONSGML v1.0//EN
CALSCALE:GREGORIAN
METHOD:PUBLISH
X-WR-CALNAME:m2A le mag - Mulhouse Alsace Agglomération
X-ORIGINAL-URL:https://mag.mulhouse-alsace.fr
X-WR-CALDESC:Évènements pour m2A le mag - Mulhouse Alsace Agglomération
REFRESH-INTERVAL;VALUE=DURATION:PT1H
X-Robots-Tag:noindex
X-PUBLISHED-TTL:PT1H
BEGIN:VTIMEZONE
TZID:Europe/Paris
BEGIN:DAYLIGHT
TZOFFSETFROM:+0100
TZOFFSETTO:+0200
TZNAME:CEST
DTSTART:20250330T010000
END:DAYLIGHT
BEGIN:STANDARD
TZOFFSETFROM:+0200
TZOFFSETTO:+0100
TZNAME:CET
DTSTART:20251026T010000
END:STANDARD
BEGIN:DAYLIGHT
TZOFFSETFROM:+0100
TZOFFSETTO:+0200
TZNAME:CEST
DTSTART:20260329T010000
END:DAYLIGHT
BEGIN:STANDARD
TZOFFSETFROM:+0200
TZOFFSETTO:+0100
TZNAME:CET
DTSTART:20261025T010000
END:STANDARD
BEGIN:DAYLIGHT
TZOFFSETFROM:+0100
TZOFFSETTO:+0200
TZNAME:CEST
DTSTART:20270328T010000
END:DAYLIGHT
BEGIN:STANDARD
TZOFFSETFROM:+0200
TZOFFSETTO:+0100
TZNAME:CET
DTSTART:20271031T010000
END:STANDARD
END:VTIMEZONE
BEGIN:VEVENT
DTSTART;VALUE=DATE:20260326
DTEND;VALUE=DATE:20260508
DTSTAMP:20260424T105356
CREATED:20260213T150132Z
LAST-MODIFIED:20260213T150132Z
UID:10010633-1774483200-1778198399@mag.mulhouse-alsace.fr
SUMMARY:"La forêt universelle" à l'Espace 110 à Illzach
DESCRIPTION:« La forêt universelle »\nExposition d’Elsa Mroziewicz et Cécile Palusinski \n« La forêt universelle » est une fresque monumentale augmentée où les spectateurs sont invités à se promener dans une forêt spectaculaire\, à la rencontre d’animaux en voie de disparition. \nInformations pratiques :\n\nDu jeudi 26 mars au jeudi 07 mai 2026\,\nEntrée libre aux horaires d’ouverture.\n\nPLUS D’INFOS \n\nL’Espace 110 – Centre Culturel d’Illzach\, Scène conventionnée d’intérêt national « art et création » à l’origine du festival Bédéciné\, propose : \n\nde nombreux spectacles pour petits et grands : théâtre\, danse\, musique\,…\nun accueil de loisirs\nune école de musique\nune bibliothèque\ndes activités culturelles et ludiques\n\nTout au long de l’année\, l’Espace 110 – Centre Culturel d’Illzach\, organise de nombreux événements pour toutes et tous. \nDÉCOUVRIR TOUS LES ÉVÉNEMENTS
URL:https://mag.mulhouse-alsace.fr/evenement/la-foret-universelle-a-lespace-110-a-illzach-2026/
LOCATION:Espace 110\, Illzach\, 1 Av. des Rives de l'Ill\, Illzach\, 68110
CATEGORIES:Exposition
ATTACH;FMTTYPE=image/jpeg:https://mag.mulhouse-alsace.fr/wp-content/uploads/2026/02/2026-espace-110-la-foret-universelle.jpg
END:VEVENT
BEGIN:VEVENT
DTSTART;TZID=Europe/Paris:20260527T190000
DTEND;TZID=Europe/Paris:20260527T210000
DTSTAMP:20260424T105356
CREATED:20260420T123219Z
LAST-MODIFIED:20260420T123219Z
UID:10010867-1779908400-1779915600@mag.mulhouse-alsace.fr
SUMMARY:Atelier d'écriture avec Mathilde Segonds à l'Espace 110 à Illzach
DESCRIPTION:Lors de cet atelier\, Mathilde Segonds propose de vous partager des clés pour inventer un univers de science-fiction théâtral. À partir de lectures d’extraits de textes et de jeux d’écriture individuels et collectifs\, les participants construiront pas à pas le paysage et le protagoniste d’une pièce unique. \nDans le cadre de la représentation « Pas touche / La Neige est blanche » à l’Espace 110 à Illzach. \nInformations pratiques :\n\nMercredi 06 mai 2026 de 19h00 à 21h00\,\nGratuit\,\nSur inscription à l’adresse billetterie@espace110.org.\n\n\nL’Espace 110 – Centre Culturel d’Illzach\, Scène conventionnée d’intérêt national « art et création » à l’origine du festival Bédéciné\, propose : \n\nde nombreux spectacles pour petits et grands : théâtre\, danse\, musique\,…\nun accueil de loisirs\nune école de musique\nune bibliothèque\ndes activités culturelles et ludiques\n\nTout au long de l’année\, l’Espace 110 – Centre Culturel d’Illzach\, organise de nombreux événements pour toutes et tous. \nDÉCOUVRIR TOUS LES ÉVÉNEMENTS
URL:https://mag.mulhouse-alsace.fr/evenement/atelier-decriture-avec-mathilde-segonds-a-lespace-110-a-illzach/
LOCATION:Espace 110\, Illzach\, 1 Av. des Rives de l'Ill\, Illzach\, 68110
CATEGORIES:Atelier
ATTACH;FMTTYPE=image/jpeg:https://mag.mulhouse-alsace.fr/wp-content/uploads/2026/04/2026-espace-110-pas-touche-la-neige-est-blanche.jpg
END:VEVENT
END:VCALENDAR