BEGIN:VCALENDAR
VERSION:2.0
PRODID:-//m2A le mag - Mulhouse Alsace Agglomération - ECPv6.15.11//NONSGML v1.0//EN
CALSCALE:GREGORIAN
METHOD:PUBLISH
X-WR-CALNAME:m2A le mag - Mulhouse Alsace Agglomération
X-ORIGINAL-URL:https://mag.mulhouse-alsace.fr
X-WR-CALDESC:Évènements pour m2A le mag - Mulhouse Alsace Agglomération
REFRESH-INTERVAL;VALUE=DURATION:PT1H
X-Robots-Tag:noindex
X-PUBLISHED-TTL:PT1H
BEGIN:VTIMEZONE
TZID:Europe/Paris
BEGIN:DAYLIGHT
TZOFFSETFROM:+0100
TZOFFSETTO:+0200
TZNAME:CEST
DTSTART:20220327T010000
END:DAYLIGHT
BEGIN:STANDARD
TZOFFSETFROM:+0200
TZOFFSETTO:+0100
TZNAME:CET
DTSTART:20221030T010000
END:STANDARD
BEGIN:DAYLIGHT
TZOFFSETFROM:+0100
TZOFFSETTO:+0200
TZNAME:CEST
DTSTART:20230326T010000
END:DAYLIGHT
BEGIN:STANDARD
TZOFFSETFROM:+0200
TZOFFSETTO:+0100
TZNAME:CET
DTSTART:20231029T010000
END:STANDARD
BEGIN:DAYLIGHT
TZOFFSETFROM:+0100
TZOFFSETTO:+0200
TZNAME:CEST
DTSTART:20240331T010000
END:DAYLIGHT
BEGIN:STANDARD
TZOFFSETFROM:+0200
TZOFFSETTO:+0100
TZNAME:CET
DTSTART:20241027T010000
END:STANDARD
END:VTIMEZONE
BEGIN:VEVENT
DTSTART;TZID=Europe/Paris:20231123T193000
DTEND;TZID=Europe/Paris:20231123T193000
DTSTAMP:20260421T141847
CREATED:20231031T133748Z
LAST-MODIFIED:20231109T110650Z
UID:10003355-1700767800-1700767800@mag.mulhouse-alsace.fr
SUMMARY:Conférence sur les différentes manières de réduire les emballages à Heimsbrunn
DESCRIPTION:La commune de Heimsbrunn vous propose une rencontre sur le thème : « partage et retour d’expériences sur les différentes manières de réduire les emballages dans nos habitudes de consommation ». \nJeudi 23 novembre 2023 de 19h30 à 21h00 \n\nMulhouse Alsace Agglomération (m2A) et ses partenaires présentent les Semaines de Réduction des Déchets\, organisées dans le cadre de la 10e édition de la SERD (Semaine Européenne de Réduction des Déchets)\, sur le territoire de l’agglomération mulhousienne. Ateliers\, conférences\, bonnes pratiques… Découvrez les nombreuses animations proposées sur le territoire de m2A entre le 18 novembre et le 03 décembre 2023 pour apprendre à réduire ses déchets et mieux consommer. \nVOIR TOUS LES ÉVÉNEMENTS
URL:https://mag.mulhouse-alsace.fr/evenement/conference-sur-les-differentes-manieres-de-reduire-les-emballages-a-heimsbrunn-serd-2023/
LOCATION:Espace Geren\, Heimsbrunn\, 35 rue de Hochstatt\, Heimsbrunn\, Grand-Est\, 68990\, France
CATEGORIES:Conférence
ATTACH;FMTTYPE=image/jpeg:https://mag.mulhouse-alsace.fr/wp-content/uploads/2023/10/2023-semaine-europeenne-reduction-dechet-evenements-m2A.jpg
END:VEVENT
END:VCALENDAR