BEGIN:VCALENDAR
VERSION:2.0
PRODID:-//m2A le mag - Mulhouse Alsace Agglomération - ECPv6.15.11//NONSGML v1.0//EN
CALSCALE:GREGORIAN
METHOD:PUBLISH
X-ORIGINAL-URL:https://mag.mulhouse-alsace.fr
X-WR-CALDESC:Évènements pour m2A le mag - Mulhouse Alsace Agglomération
REFRESH-INTERVAL;VALUE=DURATION:PT1H
X-Robots-Tag:noindex
X-PUBLISHED-TTL:PT1H
BEGIN:VTIMEZONE
TZID:Europe/Paris
BEGIN:DAYLIGHT
TZOFFSETFROM:+0100
TZOFFSETTO:+0200
TZNAME:CEST
DTSTART:20250330T010000
END:DAYLIGHT
BEGIN:STANDARD
TZOFFSETFROM:+0200
TZOFFSETTO:+0100
TZNAME:CET
DTSTART:20251026T010000
END:STANDARD
BEGIN:DAYLIGHT
TZOFFSETFROM:+0100
TZOFFSETTO:+0200
TZNAME:CEST
DTSTART:20260329T010000
END:DAYLIGHT
BEGIN:STANDARD
TZOFFSETFROM:+0200
TZOFFSETTO:+0100
TZNAME:CET
DTSTART:20261025T010000
END:STANDARD
BEGIN:DAYLIGHT
TZOFFSETFROM:+0100
TZOFFSETTO:+0200
TZNAME:CEST
DTSTART:20270328T010000
END:DAYLIGHT
BEGIN:STANDARD
TZOFFSETFROM:+0200
TZOFFSETTO:+0100
TZNAME:CET
DTSTART:20271031T010000
END:STANDARD
END:VTIMEZONE
BEGIN:VEVENT
DTSTART;TZID=Europe/Paris:20260321T093000
DTEND;TZID=Europe/Paris:20260321T113000
DTSTAMP:20260424T162807
CREATED:20260309T122349Z
LAST-MODIFIED:20260309T122659Z
UID:10010726-1774085400-1774092600@mag.mulhouse-alsace.fr
SUMMARY:"Comprendre\, accompagner et soutenir son enfant dans sa scolarité" à Staffelfelden
DESCRIPTION:Astuces et méthodes pour faciliter les apprentissages\nLe service familles et adultes de l’association La Margelle propose un temps d’échange et de rencontre\, samedi 21 mars 2026. Il a pour but de mieux cerner les difficultés scolaires de votre enfant et découvrir des outils concrets et bienveillants qui peuvent aider toute la famille. Cette rencontre est animée par Christina Leal\, sophrothérapeute et psychopédagogue. \nL’événement permet de connaître des astuces et méthodes pour faciliter l’apprentissage scolaire. Des outils simples\, concrets et applicables à la maison pour accompagner votre enfant avec confiance et sérénité. \nInformations pratiques :\n\nSamedi 21 mars 2026\,\nDe 09h30 à 11h30\,\nEntrée libre\,\nSur inscriptions au 03 89 55 64 20 ou auprès d’Emilie\, référente du service familles (servicefamilles@lamargelle.net).\n\nPLUS D’INFOS \n\nL’association La Margelle\, centre socio-culturel de la commune de Staffelfelden\, propose des activités de loisirs pour les enfants et adultes\, des accueils le mercredi et pendant les vacances ainsi que des animations. La Margelle développe\, tout au long de l’année\, des projets sociaux et culturels. \nDÉCOUVRIR TOUS LES ÉVÉNEMENTS de la Margelle
URL:https://mag.mulhouse-alsace.fr/evenement/comprendre-accompagner-et-soutenir-son-enfant-dans-sa-scolarite-a-staffelfelden-21-03-2026/
LOCATION:Espace Les Coquelicots\, Staffelfelden\, 1 allée des Seigneurs\, Staffelfelden\, Grand-Est\, 68850\, France
CATEGORIES:Atelier
ATTACH;FMTTYPE=image/jpeg:https://mag.mulhouse-alsace.fr/wp-content/uploads/2026/03/2026-la-margelle-comprendre-accompagner-et-soutenir-son-enfant-dans-sa-scolarite-staffelfelden.jpg
END:VEVENT
BEGIN:VEVENT
DTSTART;TZID=Europe/Paris:20260311T180000
DTEND;TZID=Europe/Paris:20260311T200000
DTSTAMP:20260424T162807
CREATED:20260309T122523Z
LAST-MODIFIED:20260309T122830Z
UID:10010722-1773252000-1773259200@mag.mulhouse-alsace.fr
SUMMARY:"Comprendre\, accompagner et soutenir son enfant dans sa scolarité" à Staffelfelden
DESCRIPTION:Échanger et comprendre les difficultés rencontrées par son enfant dans sa scolarité\nLe service familles et adultes de l’association La Margelle propose deux temps d’échanges et de rencontres\, mercredi 11 et samedi 21 mars 2026. Ils ont pour but de mieux cerner les difficultés scolaires de votre enfant et découvrir des outils concrets et bienveillants qui peuvent aider toute la famille. Ces rencontres sont animées par Christina Leal\, sophrothérapeute et psychopédagogue. \nL’événement permet d’échanger et comprendre les difficultés rencontrées par son enfant dans sa scolarité. Un temps d’échange est proposé pour permettre de mieux comprendre les blocages\, les émotions et les besoins de votre enfant. \nInformations pratiques :\n\nMercredi 11 mars 2026\,\nDe 18h00 à 20h00\,\nEntrée libre\,\nSur inscriptions au 03 89 55 64 20 ou auprès d’Emilie\, référente du service familles (servicefamilles@lamargelle.net).\n\nPLUS D’INFOS \n\nL’association La Margelle\, centre socio-culturel de la commune de Staffelfelden\, propose des activités de loisirs pour les enfants et adultes\, des accueils le mercredi et pendant les vacances ainsi que des animations. La Margelle développe\, tout au long de l’année\, des projets sociaux et culturels. \nDÉCOUVRIR TOUS LES ÉVÉNEMENTS de la Margelle
URL:https://mag.mulhouse-alsace.fr/evenement/comprendre-accompagner-et-soutenir-son-enfant-dans-sa-scolarite-a-staffelfelden-11-03-2026/
LOCATION:Espace Les Coquelicots\, Staffelfelden\, 1 allée des Seigneurs\, Staffelfelden\, Grand-Est\, 68850\, France
CATEGORIES:Atelier
ATTACH;FMTTYPE=image/jpeg:https://mag.mulhouse-alsace.fr/wp-content/uploads/2026/03/2026-la-margelle-comprendre-accompagner-et-soutenir-son-enfant-dans-sa-scolarite-staffelfelden.jpg
END:VEVENT
END:VCALENDAR