BEGIN:VCALENDAR
VERSION:2.0
PRODID:-//m2A le mag - Mulhouse Alsace Agglomération - ECPv6.15.11//NONSGML v1.0//EN
CALSCALE:GREGORIAN
METHOD:PUBLISH
X-WR-CALNAME:m2A le mag - Mulhouse Alsace Agglomération
X-ORIGINAL-URL:https://mag.mulhouse-alsace.fr
X-WR-CALDESC:Évènements pour m2A le mag - Mulhouse Alsace Agglomération
REFRESH-INTERVAL;VALUE=DURATION:PT1H
X-Robots-Tag:noindex
X-PUBLISHED-TTL:PT1H
BEGIN:VTIMEZONE
TZID:Europe/Paris
BEGIN:DAYLIGHT
TZOFFSETFROM:+0100
TZOFFSETTO:+0200
TZNAME:CEST
DTSTART:20240331T010000
END:DAYLIGHT
BEGIN:STANDARD
TZOFFSETFROM:+0200
TZOFFSETTO:+0100
TZNAME:CET
DTSTART:20241027T010000
END:STANDARD
BEGIN:DAYLIGHT
TZOFFSETFROM:+0100
TZOFFSETTO:+0200
TZNAME:CEST
DTSTART:20250330T010000
END:DAYLIGHT
BEGIN:STANDARD
TZOFFSETFROM:+0200
TZOFFSETTO:+0100
TZNAME:CET
DTSTART:20251026T010000
END:STANDARD
BEGIN:DAYLIGHT
TZOFFSETFROM:+0100
TZOFFSETTO:+0200
TZNAME:CEST
DTSTART:20260329T010000
END:DAYLIGHT
BEGIN:STANDARD
TZOFFSETFROM:+0200
TZOFFSETTO:+0100
TZNAME:CET
DTSTART:20261025T010000
END:STANDARD
END:VTIMEZONE
BEGIN:VEVENT
DTSTART;TZID=Europe/Paris:20250921T100000
DTEND;TZID=Europe/Paris:20250921T100000
DTSTAMP:20260425T131802
CREATED:20250807T071619Z
LAST-MODIFIED:20250807T071722Z
UID:10010039-1758448800-1758448800@mag.mulhouse-alsace.fr
SUMMARY:"Découverte de la Mer Rouge" à la Kunsthalle à Mulhouse
DESCRIPTION:À l’occasion des Journées européennes du Patrimoine\, la Kunsthalle à Mulhouse vous propose de participer à la balade « Découverte de la Mer Rouge »\, en lien avec l’exposition « Déborder la rivière »\, dimanche 21 septembre 2025. \nTout au long de l’exposition « Déborder la rivière »\, la Kunsthalle propose des balades en lien avec les thématiques abordées par les artistes : la rivière\, la faune\, la flore\, l’histoire de l’Ill et de la ville. \n« Découverte de la Mer Rouge » par Hugues Ruhlmann :\nÀ l’occasion d’une grande promenade dans Dornach\, Hugues Ruhlmann vous propose d’arpenter la Mer Rouge\, quartier mulhousien intimement lié à l’histoire industrielle de la ville. La Mer Rouge évoque le voyage pour les uns\, l’aventure textile pour les autres. Partir à la découverte de son patrimoine conservé ou disparu est l’occasion d’en savoir plus et de comprendre le rôle qu’elle a joué dans le développement de la cité mulhousienne. \nInformations pratiques :\n\nDimanche 21 septembre 2025\,\nDépart à 10h00 de la gare de Mulhouse Dornach\,\nParticipation libre et gratuite\,\nDurée : 2h.\n\nPLUS D’INFOS \n\nOrganisées par le Ministère de la Culture dans toute la France\, Les Journées européennes du Patrimoine fêtent leur 42e anniversaire les 20 et 21 septembre 2025. Une belle opportunité pour découvrir le patrimoine\, la culture et les traditions du territoire de m2A. \nDÉCOUVRIR TOUS LES ÉVÉNEMENTS
URL:https://mag.mulhouse-alsace.fr/evenement/decouverte-de-la-mer-rouge-a-la-kunsthalle-a-mulhouse-2025/
LOCATION:Gare\, Mulhouse Dornach\, Rue Antoine Herzog\, Mulhouse\, 68200\, France
CATEGORIES:Visite guidée
ATTACH;FMTTYPE=image/jpeg:https://mag.mulhouse-alsace.fr/wp-content/uploads/2025/08/2025-kunsthalle-balade-sensible-mulhouse.jpg
END:VEVENT
END:VCALENDAR