BEGIN:VCALENDAR
VERSION:2.0
PRODID:-//m2A le mag - Mulhouse Alsace Agglomération - ECPv6.15.11//NONSGML v1.0//EN
CALSCALE:GREGORIAN
METHOD:PUBLISH
X-ORIGINAL-URL:https://mag.mulhouse-alsace.fr
X-WR-CALDESC:Évènements pour m2A le mag - Mulhouse Alsace Agglomération
REFRESH-INTERVAL;VALUE=DURATION:PT1H
X-Robots-Tag:noindex
X-PUBLISHED-TTL:PT1H
BEGIN:VTIMEZONE
TZID:Europe/Paris
BEGIN:DAYLIGHT
TZOFFSETFROM:+0100
TZOFFSETTO:+0200
TZNAME:CEST
DTSTART:20240331T010000
END:DAYLIGHT
BEGIN:STANDARD
TZOFFSETFROM:+0200
TZOFFSETTO:+0100
TZNAME:CET
DTSTART:20241027T010000
END:STANDARD
BEGIN:DAYLIGHT
TZOFFSETFROM:+0100
TZOFFSETTO:+0200
TZNAME:CEST
DTSTART:20250330T010000
END:DAYLIGHT
BEGIN:STANDARD
TZOFFSETFROM:+0200
TZOFFSETTO:+0100
TZNAME:CET
DTSTART:20251026T010000
END:STANDARD
BEGIN:DAYLIGHT
TZOFFSETFROM:+0100
TZOFFSETTO:+0200
TZNAME:CEST
DTSTART:20260329T010000
END:DAYLIGHT
BEGIN:STANDARD
TZOFFSETFROM:+0200
TZOFFSETTO:+0100
TZNAME:CET
DTSTART:20261025T010000
END:STANDARD
END:VTIMEZONE
BEGIN:VEVENT
DTSTART;TZID=Europe/Paris:20251004T140000
DTEND;TZID=Europe/Paris:20251004T170000
DTSTAMP:20260422T095459
CREATED:20250924T064509Z
LAST-MODIFIED:20250924T064509Z
UID:10010163-1759586400-1759597200@mag.mulhouse-alsace.fr
SUMMARY:Village Sécurité Routière à Illzach
DESCRIPTION:Pour la première fois à Illzach\, découvrez le Village Sécurité Routière  : un après-midi 100% gratuit\, ludique et convivial\, pour petits et grands. Apprendre les bons réflexes de la route n’aura jamais été aussi amusant ! \nAu programme :\n\nAnimation voiture tonneau\,\nParcours avec lunettes de simulation\,\nMini-trottinette & tricycle pour les enfants\,\nAtelier de réalité virtuelle\,\nTest de vélo & trottinette électrique\,\nAtelier “angles morts”\,\nCircuit sportif Pumptrack\,\nQuiz\, jeux pédagogiques… et bien d’autres surprises.\n\nInformations pratiques :\n\nSamedi 04 octobre 2025 de 14h00 à 17h00\,\nParking du Gymnase des Jonquilles & Lycée Bugatti – Illzach\,\nEntrée libre – Gratuit – Tout public\,\nBuvette\, petite restauration & petits cadeaux à gagner\,\nUn événement inédit organisé par le Conseil Citoyen d’Illzach avec le CSC Le Fil d’Ariane\, soutenu par l’État et de nombreux partenaires.\n\n\nSituée dans le Haut-Rhin (Alsace)\, en région Grand Est\, Illzach est une commune membre de m2A. Elle dispose de nombreux espaces culturels\, sportifs\, associatifs ainsi qu’éducatifs. \nDÉCOUVRIR TOUS LES ÉVÉNEMENTS
URL:https://mag.mulhouse-alsace.fr/evenement/village-securite-routiere-a-illzach-2025/
LOCATION:Gymnase des Jonquilles\, Illzach\, 8 rue des Jonquilles\, Illzach\, 68110\, France
CATEGORIES:Atelier
ATTACH;FMTTYPE=image/jpeg:https://mag.mulhouse-alsace.fr/wp-content/uploads/2025/09/village.jpg
END:VEVENT
END:VCALENDAR