BEGIN:VCALENDAR
VERSION:2.0
PRODID:-//m2A le mag - Mulhouse Alsace Agglomération - ECPv6.15.11//NONSGML v1.0//EN
CALSCALE:GREGORIAN
METHOD:PUBLISH
X-ORIGINAL-URL:https://mag.mulhouse-alsace.fr
X-WR-CALDESC:Évènements pour m2A le mag - Mulhouse Alsace Agglomération
REFRESH-INTERVAL;VALUE=DURATION:PT1H
X-Robots-Tag:noindex
X-PUBLISHED-TTL:PT1H
BEGIN:VTIMEZONE
TZID:Europe/Paris
BEGIN:DAYLIGHT
TZOFFSETFROM:+0100
TZOFFSETTO:+0200
TZNAME:CEST
DTSTART:20240331T010000
END:DAYLIGHT
BEGIN:STANDARD
TZOFFSETFROM:+0200
TZOFFSETTO:+0100
TZNAME:CET
DTSTART:20241027T010000
END:STANDARD
BEGIN:DAYLIGHT
TZOFFSETFROM:+0100
TZOFFSETTO:+0200
TZNAME:CEST
DTSTART:20250330T010000
END:DAYLIGHT
BEGIN:STANDARD
TZOFFSETFROM:+0200
TZOFFSETTO:+0100
TZNAME:CET
DTSTART:20251026T010000
END:STANDARD
BEGIN:DAYLIGHT
TZOFFSETFROM:+0100
TZOFFSETTO:+0200
TZNAME:CEST
DTSTART:20260329T010000
END:DAYLIGHT
BEGIN:STANDARD
TZOFFSETFROM:+0200
TZOFFSETTO:+0100
TZNAME:CET
DTSTART:20261025T010000
END:STANDARD
END:VTIMEZONE
BEGIN:VEVENT
DTSTART;VALUE=DATE:20251206
DTEND;VALUE=DATE:20251208
DTSTAMP:20260424T145855
CREATED:20251110T150128Z
LAST-MODIFIED:20251110T150128Z
UID:10010423-1764979200-1765151999@mag.mulhouse-alsace.fr
SUMMARY:Marché de Noël 2025 à Reiningue
DESCRIPTION:Le Noël des jouets d’antan\nVenez découvrir le marché de Noël organisé dans la commune de Reiningue. \nAu programme :\n\nStands d’artisans (art\, décorations\, mode\, soins\, bijoux…)\,\nExposition de jouets d’antan\,\nTrain miniature\,\nChants de Noël\,\nTombola\,\nRestauration.\n\nInformations pratiques :\n\nSamedi 06 et dimanche 07 décembre 2025\,\nDe 10h00 à 20h00.\n\n\nTout au long de la période des fêtes de fin d’année\, de nombreux marchés de Noël et animations sont à découvrir dans les différentes communes de l’Agglomération. \nDÉCOUVRIR LES ANIMATIONS DE NOËL
URL:https://mag.mulhouse-alsace.fr/evenement/marche-de-noel-2025-a-reiningue/
LOCATION:La Passerelle de la Doller\, Reiningue\, 33 rue Principale\, Reiningue\, 68950\, France
CATEGORIES:Noël
ATTACH;FMTTYPE=image/jpeg:https://mag.mulhouse-alsace.fr/wp-content/uploads/2025/11/boule-de-noel.jpg
END:VEVENT
END:VCALENDAR