BEGIN:VCALENDAR
VERSION:2.0
PRODID:-//m2A le mag - Mulhouse Alsace Agglomération - ECPv6.15.11//NONSGML v1.0//EN
CALSCALE:GREGORIAN
METHOD:PUBLISH
X-WR-CALNAME:m2A le mag - Mulhouse Alsace Agglomération
X-ORIGINAL-URL:https://mag.mulhouse-alsace.fr
X-WR-CALDESC:Évènements pour m2A le mag - Mulhouse Alsace Agglomération
REFRESH-INTERVAL;VALUE=DURATION:PT1H
X-Robots-Tag:noindex
X-PUBLISHED-TTL:PT1H
BEGIN:VTIMEZONE
TZID:Europe/Paris
BEGIN:DAYLIGHT
TZOFFSETFROM:+0100
TZOFFSETTO:+0200
TZNAME:CEST
DTSTART:20250330T010000
END:DAYLIGHT
BEGIN:STANDARD
TZOFFSETFROM:+0200
TZOFFSETTO:+0100
TZNAME:CET
DTSTART:20251026T010000
END:STANDARD
BEGIN:DAYLIGHT
TZOFFSETFROM:+0100
TZOFFSETTO:+0200
TZNAME:CEST
DTSTART:20260329T010000
END:DAYLIGHT
BEGIN:STANDARD
TZOFFSETFROM:+0200
TZOFFSETTO:+0100
TZNAME:CET
DTSTART:20261025T010000
END:STANDARD
BEGIN:DAYLIGHT
TZOFFSETFROM:+0100
TZOFFSETTO:+0200
TZNAME:CEST
DTSTART:20270328T010000
END:DAYLIGHT
BEGIN:STANDARD
TZOFFSETFROM:+0200
TZOFFSETTO:+0100
TZNAME:CET
DTSTART:20271031T010000
END:STANDARD
END:VTIMEZONE
BEGIN:VEVENT
DTSTART;TZID=Europe/Paris:20260507T190000
DTEND;TZID=Europe/Paris:20260507T190000
DTSTAMP:20260421T150748
CREATED:20260420T122006Z
LAST-MODIFIED:20260420T122833Z
UID:10010866-1778180400-1778180400@mag.mulhouse-alsace.fr
SUMMARY:"Pas touche / La Neige est blanche" à Illzach
DESCRIPTION:Vivez une soirée exceptionnelle dans les Jardins du Temps d’Illzach ! Au programme : deux spectacles à partager\, deux propositions pour découvrir l’autre\, les autres et leurs différences. En parallèle des pièces\, venez savourer un repas végétarien libanais préparé par le foodtruck Chez Vincent. \nPas touche (parade en planète inconnue) :\nProduction du festival Démostratif. \nErzevine et Dilotta vont d’astres en astres pour étudier les folklores propres à leurs habitants. Un jour\, elles atterrissent sur une étrange planète où elles vont prendre part à un mystérieux rituel. \nDistribution :  \n\nMise en scène : Sacha Vilmar\,\nTexte : Mathilde Segonds\,\nAvec : Otilly Belcour et Camille Girard\,\nDécors : Emmanuel Charles\,\nCostumes : Sacha Vilmar\,\nCréation sonore : Margault Willkomm\,\nConstruction du décor : Pierre Chaumont\,\nCrédit photo : Teona Goreci.\n\nLa Neige est blanche :\nCie In Vitro\, Marine Mane. \n« La Neige est blanche » vous plonge dans l’histoire d’une adolescente qui\, en fuyant la route tracée pour elle\, commence à se trouver. \nDistribution :  \n\nMise en scène\, conception et direction artistique : Marine Mane\,\nTexte : Béatrice Bienville\,\nInterprète : Galla Naccache Gauthier\,\nProduction\, diffusion et administration : Pauline Barry-Venture et Philippe Naulot.\n\nInformations pratiques :\n\nJeudi 07 mai 2026 à 19h00\,\nDurée : 2h30\,\nTarif : 27 € (comprend les deux spectacles et une formule repas végétarienne)\,\nDès 14 ans.\n\nINSCRIPTION \n\nL’Espace 110 – Centre Culturel d’Illzach\, Scène conventionnée d’intérêt national « art et création » à l’origine du festival Bédéciné\, propose : \n\nde nombreux spectacles pour petits et grands : théâtre\, danse\, musique\,…\nun accueil de loisirs\nune école de musique\nune bibliothèque\ndes activités culturelles et ludiques\n\nTout au long de l’année\, l’Espace 110 – Centre Culturel d’Illzach\, organise de nombreux événements pour toutes et tous. \nDÉCOUVRIR TOUS LES ÉVÉNEMENTS
URL:https://mag.mulhouse-alsace.fr/evenement/pas-touche-la-neige-est-blanche-a-illzach-2026/
LOCATION:Les Jardins du Temps\, Illzach\, 81 rue des Vosges\, Illzach\, 68110\, France
CATEGORIES:Théâtre
ATTACH;FMTTYPE=image/jpeg:https://mag.mulhouse-alsace.fr/wp-content/uploads/2026/04/2026-espace-110-pas-touche-la-neige-est-blanche.jpg
END:VEVENT
END:VCALENDAR