BEGIN:VCALENDAR
VERSION:2.0
PRODID:-//m2A le mag - Mulhouse Alsace Agglomération - ECPv6.15.11//NONSGML v1.0//EN
CALSCALE:GREGORIAN
METHOD:PUBLISH
X-WR-CALNAME:m2A le mag - Mulhouse Alsace Agglomération
X-ORIGINAL-URL:https://mag.mulhouse-alsace.fr
X-WR-CALDESC:Évènements pour m2A le mag - Mulhouse Alsace Agglomération
REFRESH-INTERVAL;VALUE=DURATION:PT1H
X-Robots-Tag:noindex
X-PUBLISHED-TTL:PT1H
BEGIN:VTIMEZONE
TZID:Europe/Paris
BEGIN:DAYLIGHT
TZOFFSETFROM:+0100
TZOFFSETTO:+0200
TZNAME:CEST
DTSTART:20230326T010000
END:DAYLIGHT
BEGIN:STANDARD
TZOFFSETFROM:+0200
TZOFFSETTO:+0100
TZNAME:CET
DTSTART:20231029T010000
END:STANDARD
BEGIN:DAYLIGHT
TZOFFSETFROM:+0100
TZOFFSETTO:+0200
TZNAME:CEST
DTSTART:20240331T010000
END:DAYLIGHT
BEGIN:STANDARD
TZOFFSETFROM:+0200
TZOFFSETTO:+0100
TZNAME:CET
DTSTART:20241027T010000
END:STANDARD
BEGIN:DAYLIGHT
TZOFFSETFROM:+0100
TZOFFSETTO:+0200
TZNAME:CEST
DTSTART:20250330T010000
END:DAYLIGHT
BEGIN:STANDARD
TZOFFSETFROM:+0200
TZOFFSETTO:+0100
TZNAME:CET
DTSTART:20251026T010000
END:STANDARD
BEGIN:DAYLIGHT
TZOFFSETFROM:+0100
TZOFFSETTO:+0200
TZNAME:CEST
DTSTART:20260329T010000
END:DAYLIGHT
BEGIN:STANDARD
TZOFFSETFROM:+0200
TZOFFSETTO:+0100
TZNAME:CET
DTSTART:20261025T010000
END:STANDARD
END:VTIMEZONE
BEGIN:VEVENT
DTSTART;VALUE=DATE:20250524
DTEND;VALUE=DATE:20250525
DTSTAMP:20260424T202346
CREATED:20250429T112935Z
LAST-MODIFIED:20250429T112935Z
UID:10009758-1748044800-1748131199@mag.mulhouse-alsace.fr
SUMMARY:Journée Citoyenne 2025 à Kingersheim
DESCRIPTION:Faire ensemble pour mieux avancer ensemble\n\nParticipez à la Journée Citoyenne organisée par la commune de Kingersheim. Cette initiative est ouverte à tous\, adultes et enfants accompagnés. \nInformations pratiques\n\nSamedi 24 mai 2025\,\nPour plus d’informations sur la programmation et les horaires de la Journée Citoyenne à Kingersheim\, contactez la mairie.\n\n\nSituée dans le Haut-Rhin (Alsace)\, en région Grand Est\, Kingersheim est une commune membre de m2A. Kingersheim apparaît pour la première fois en 1195 sous la dénomination de Kemingsen et tire son origine d’une légende. Elle dispose d’espaces culturels\, associatifs\, de structures d’accueil et d’espaces verts. \nDÉCOUVRIR TOUS LES ÉVÉNEMENTS
URL:https://mag.mulhouse-alsace.fr/evenement/journee-citoyenne-2025-a-kingersheim/
LOCATION:Mairie\, Kingersheim\, Place de la Libération\, Kingersheim\, 68260\, France
CATEGORIES:Atelier
ATTACH;FMTTYPE=image/jpeg:https://mag.mulhouse-alsace.fr/wp-content/uploads/2024/05/journee-citoyenne-24-mai-2025.jpg
END:VEVENT
BEGIN:VEVENT
DTSTART;TZID=Europe/Paris:20240525T080000
DTEND;TZID=Europe/Paris:20240525T130000
DTSTAMP:20260424T202346
CREATED:20240513T075716Z
LAST-MODIFIED:20240513T075716Z
UID:10008168-1716624000-1716642000@mag.mulhouse-alsace.fr
SUMMARY:Journée Citoyenne 2024 à Kingersheim
DESCRIPTION:Faire ensemble pour mieux vivre ensemble\n\nParticipez à la Journée Citoyenne organisée par la commune de Kingersheim. Cette initiative est ouverte à tous\, adultes et enfants accompagnés. \nInformations pratiques\n\nDe 08h00 à 13h00\nPour plus d’informations sur la programmation de la Journée Citoyenne à Kingersheim\, contactez la mairie\n\n\nSituée dans le Haut-Rhin (Alsace)\, en région Grand Est\, Kingersheim est une commune de m2A. Kingersheim apparaît pour la première fois en 1195 sous la dénomination de Kemingsen et tire son origine d’une légende. Elle dispose d’espaces culturels\, associatifs\, de structures d’accueil et d’espaces verts. \nDÉCOUVRIR TOUS LES ÉVÉNEMENTS
URL:https://mag.mulhouse-alsace.fr/evenement/journee-citoyenne-2024-a-kingersheim/
LOCATION:Mairie\, Kingersheim\, Place de la Libération\, Kingersheim\, 68260\, France
CATEGORIES:Atelier
ATTACH;FMTTYPE=image/jpeg:https://mag.mulhouse-alsace.fr/wp-content/uploads/2024/05/journee-citoyenne-2024.jpg
END:VEVENT
END:VCALENDAR