BEGIN:VCALENDAR
VERSION:2.0
PRODID:-//m2A le mag - Mulhouse Alsace Agglomération - ECPv6.15.11//NONSGML v1.0//EN
CALSCALE:GREGORIAN
METHOD:PUBLISH
X-ORIGINAL-URL:https://mag.mulhouse-alsace.fr
X-WR-CALDESC:Évènements pour m2A le mag - Mulhouse Alsace Agglomération
REFRESH-INTERVAL;VALUE=DURATION:PT1H
X-Robots-Tag:noindex
X-PUBLISHED-TTL:PT1H
BEGIN:VTIMEZONE
TZID:Europe/Paris
BEGIN:DAYLIGHT
TZOFFSETFROM:+0100
TZOFFSETTO:+0200
TZNAME:CEST
DTSTART:20230326T010000
END:DAYLIGHT
BEGIN:STANDARD
TZOFFSETFROM:+0200
TZOFFSETTO:+0100
TZNAME:CET
DTSTART:20231029T010000
END:STANDARD
BEGIN:DAYLIGHT
TZOFFSETFROM:+0100
TZOFFSETTO:+0200
TZNAME:CEST
DTSTART:20240331T010000
END:DAYLIGHT
BEGIN:STANDARD
TZOFFSETFROM:+0200
TZOFFSETTO:+0100
TZNAME:CET
DTSTART:20241027T010000
END:STANDARD
BEGIN:DAYLIGHT
TZOFFSETFROM:+0100
TZOFFSETTO:+0200
TZNAME:CEST
DTSTART:20250330T010000
END:DAYLIGHT
BEGIN:STANDARD
TZOFFSETFROM:+0200
TZOFFSETTO:+0100
TZNAME:CET
DTSTART:20251026T010000
END:STANDARD
BEGIN:DAYLIGHT
TZOFFSETFROM:+0100
TZOFFSETTO:+0200
TZNAME:CEST
DTSTART:20260329T010000
END:DAYLIGHT
BEGIN:STANDARD
TZOFFSETFROM:+0200
TZOFFSETTO:+0100
TZNAME:CET
DTSTART:20261025T010000
END:STANDARD
END:VTIMEZONE
BEGIN:VEVENT
DTSTART;TZID=Europe/Paris:20250628T093000
DTEND;TZID=Europe/Paris:20250628T093000
DTSTAMP:20260420T195832
CREATED:20250325T101044Z
LAST-MODIFIED:20250325T101044Z
UID:10009662-1751103000-1751103000@mag.mulhouse-alsace.fr
SUMMARY:Sortie "À huit pattes" à Petit-Landau
DESCRIPTION:À huit pattes\nVenez découvrir les araignées qui nous entourent entre prairie et habitations pour casser les idées reçues. \nInformations pratiques :\n\n09h30\,\nDurée : 2h\,\nGratuit\,\nInscription obligatoire – 16 places disponibles\,\nLieu de rendez-vous : mairie de Petit-Landau.\n\nJE M’INSCRIS \n\nCet événement fait partie du programme « La Nature près de chez moi »\, élaboré par les Centres d’Initiation à la Nature et à l’Environnement (CINE)\, le Moulin Nature et la Petite Camargue Alsacienne. Apprendre à connaître la nature pour mieux la protéger est un objectif du Plan Climat Nouvelle Donne m2A. \nTOUT LE PROGRAMME « LA NATURE PRÈS DE CHEZ MOI »  \n\n\nLa Petite Camargue Alsacienne est un Centre d’Initiation à la Nature et à l’Environnement (CINE). Nous y retrouvons des animations tous publics ainsi que des actions et une sensibilisation autour de la biodiversité.
URL:https://mag.mulhouse-alsace.fr/evenement/sortie-a-huit-pattes-a-petit-landau-2025/
LOCATION:Mairie\, Petit-Landau\, 3 rue Séger\, Petit-Landau\, France
CATEGORIES:Atelier
ATTACH;FMTTYPE=image/jpeg:https://mag.mulhouse-alsace.fr/wp-content/uploads/2025/03/a-huit-pattes-2025.jpg
END:VEVENT
BEGIN:VEVENT
DTSTART;VALUE=DATE:20250524
DTEND;VALUE=DATE:20250525
DTSTAMP:20260420T195832
CREATED:20250429T113723Z
LAST-MODIFIED:20250429T113723Z
UID:10009762-1748044800-1748131199@mag.mulhouse-alsace.fr
SUMMARY:Journée Citoyenne 2025 à Petit-Landau
DESCRIPTION:Faire ensemble pour mieux avancer ensemble\n\nParticipez à la Journée Citoyenne organisée par la commune de Petit-Landau. Cette initiative est ouverte à tous\, adultes et enfants accompagnés. \nInformations pratiques\n\nSamedi 24 mai 2025\,\nPour plus d’informations sur les horaires et la programmation de la Journée Citoyenne à Petit-Landau\, contactez la mairie.\n\n\nSituée dans le Haut-Rhin (Alsace)\, en région Grand Est\, Petit-Landau est une commune membre de m2A. Elle dispose d’une église datant du 18e siècle et d’un séchoir de la fin du 15e siècle. \nDÉCOUVRIR TOUS LES ÉVÉNEMENTS
URL:https://mag.mulhouse-alsace.fr/evenement/journee-citoyenne-2025-a-petit-landau/
LOCATION:Mairie\, Petit-Landau\, 3 rue Séger\, Petit-Landau\, France
CATEGORIES:Atelier
ATTACH;FMTTYPE=image/jpeg:https://mag.mulhouse-alsace.fr/wp-content/uploads/2024/05/journee-citoyenne-24-mai-2025.jpg
END:VEVENT
BEGIN:VEVENT
DTSTART;VALUE=DATE:20240525
DTEND;VALUE=DATE:20240526
DTSTAMP:20260420T195832
CREATED:20240513T074431Z
LAST-MODIFIED:20240513T074431Z
UID:10008173-1716595200-1716681599@mag.mulhouse-alsace.fr
SUMMARY:Journée Citoyenne 2024 à Petit-Landau
DESCRIPTION:Faire ensemble pour mieux vivre ensemble\n\nParticipez à la Journée Citoyenne organisée par la commune de Petit-Landau. Cette initiative est ouverte à tous\, adultes et enfants accompagnés. \nInformations pratiques\n\nPour plus d’informations sur les horaires et la programmation de la Journée Citoyenne à Petit-Landau\, contactez la mairie\n\n\nSituée dans le Haut-Rhin (Alsace)\, en région Grand Est\, Petit-Landau est une commune de m2A. Petit-Landau\, commune jumelée avec celle de Labouheyre depuis 1977\, dispose d’une église datant du 18e siècle et d’un séchoir de la fin du 15e siècle. \nDÉCOUVRIR TOUS LES ÉVÉNEMENTS
URL:https://mag.mulhouse-alsace.fr/evenement/journee-citoyenne-2024-a-petit-landau/
LOCATION:Mairie\, Petit-Landau\, 3 rue Séger\, Petit-Landau\, France
CATEGORIES:Atelier
ATTACH;FMTTYPE=image/jpeg:https://mag.mulhouse-alsace.fr/wp-content/uploads/2024/05/journee-citoyenne-2024.jpg
END:VEVENT
END:VCALENDAR