BEGIN:VCALENDAR
VERSION:2.0
PRODID:-//m2A le mag - Mulhouse Alsace Agglomération - ECPv6.15.11//NONSGML v1.0//EN
CALSCALE:GREGORIAN
METHOD:PUBLISH
X-WR-CALNAME:m2A le mag - Mulhouse Alsace Agglomération
X-ORIGINAL-URL:https://mag.mulhouse-alsace.fr
X-WR-CALDESC:Évènements pour m2A le mag - Mulhouse Alsace Agglomération
REFRESH-INTERVAL;VALUE=DURATION:PT1H
X-Robots-Tag:noindex
X-PUBLISHED-TTL:PT1H
BEGIN:VTIMEZONE
TZID:Europe/Paris
BEGIN:DAYLIGHT
TZOFFSETFROM:+0100
TZOFFSETTO:+0200
TZNAME:CEST
DTSTART:20250330T010000
END:DAYLIGHT
BEGIN:STANDARD
TZOFFSETFROM:+0200
TZOFFSETTO:+0100
TZNAME:CET
DTSTART:20251026T010000
END:STANDARD
BEGIN:DAYLIGHT
TZOFFSETFROM:+0100
TZOFFSETTO:+0200
TZNAME:CEST
DTSTART:20260329T010000
END:DAYLIGHT
BEGIN:STANDARD
TZOFFSETFROM:+0200
TZOFFSETTO:+0100
TZNAME:CET
DTSTART:20261025T010000
END:STANDARD
BEGIN:DAYLIGHT
TZOFFSETFROM:+0100
TZOFFSETTO:+0200
TZNAME:CEST
DTSTART:20270328T010000
END:DAYLIGHT
BEGIN:STANDARD
TZOFFSETFROM:+0200
TZOFFSETTO:+0100
TZNAME:CET
DTSTART:20271031T010000
END:STANDARD
END:VTIMEZONE
BEGIN:VEVENT
DTSTART;VALUE=DATE:20260411
DTEND;VALUE=DATE:20261102
DTSTAMP:20260424T204147
CREATED:20260407T113122Z
LAST-MODIFIED:20260415T150416Z
UID:10010812-1775865600-1793577599@mag.mulhouse-alsace.fr
SUMMARY:Exposition "Formule 1" au Musée National de l’Automobile à Mulhouse
DESCRIPTION:Formule 1 :\nSymbole de vitesse\, d’innovation et de légende\, la Formule 1 s’invite au Musée National de l’Automobile – Collection Schlumpf de Mulhouse\, dans le cadre d’une exposition d’envergure. \nNée en 1950\, la Formule 1 est à la fois un championnat sportif\, un laboratoire technologique et un mythe populaire mondial. Elle incarne plus de 70 ans d’innovations mécaniques\, aérodynamiques et humaines qui ont profondément marqué l’histoire de l’automobile. L’exposition présente environ cinquante monoplaces emblématiques\, couvrant l’ensemble de l’histoire de la Formule 1\, des origines aux années contemporaines. \nParmi les grandes périodes abordées : \n\nLes pionniers (années 1950) : Alfa Romeo\, Maserati et Ferrari (l’âge héroïque de la discipline)\,\nLes années 1960 – 1970 : révolution des châssis\, moteurs arrière et premières grandes évolutions aérodynamiques\,\nLes années 1980 – 1990 : ère des moteurs turbo\, domination technologique et professionnalisation extrême\,\nLa Formule 1 moderne : sécurité\, hybridation\, aérodynamique avancée et data.\n\nAu-delà des monoplaces\, l’exposition présente une sélection d’objets historiques et symboliques\, ayant appartenu à tous les plus grands champions tels que Lewis Hamilton\, Michael Schumacher\, Max Verstappen et bien d’autres : casques et combinaisons\, trophées\, documents d’époque (photographies\, licences\, correspondances)\, éléments graphiques et dispositifs audiovisuels issus d’archives officielles. Ces objets racontent l’histoire des pilotes\, des ingénieurs et des équipes et ils replacent les voitures dans leur contexte sportif\, technique et personnel. Un espace spécifique est notamment consacré à Juan Manuel Fangio\, figure fondatrice de la Formule 1\, à travers des voitures\, des documents et des objets emblématiques\, en lien avec le Museo Fangio. \nDécouvrez comment la Formule 1 s’est construite\, pourquoi elle fascine toujours et en quoi elle a transformé l’automobile moderne. \nInformations pratiques :\n\nDu 11 avril au 1er novembre 2026\,\nAux horaires d’ouverture du musée\,\nExposition indépendante (non affiliée à la marque Formule 1).\n\nPlus d’infos \n\nLe Musée National de l’Automobile – Collection Schlumpf est un lieu unique\, chargé d’histoire\, celle deux de frères passionnés d’automobile : les Frères Schlumpf\, Hans et Fritz. C’est en 1957 que ces collectionneurs ont acquis la filature de laine peignée d’Erstein et la filature HKC à Mulhouse\, actuel lieu du musée. Fritz commence à collectionner les vieilles voitures. Les achats se multiplient après les années 1960\, l’usine de Mulhouse ferme et accueille la collection des frères\, considérée comme l’une des plus belles au monde. Ce n’est qu’en 1982 que le Musée National de l’Automobile ouvre ses portes\, après de nombreux périples. Aujourd’hui\, on comptabilise plus de 450 voitures d’exception.\nTout au long de l’année\, le Musée National de l’Automobile – Collection Schlumpf propose de nombreux événements\, expositions\, ateliers. \nDÉCOUVRIR TOUS LES ÉVÉNEMENTS DU MUSÉE
URL:https://mag.mulhouse-alsace.fr/evenement/exposition-formule-1-au-musee-national-de-lautomobile-a-mulhouse-2026/
LOCATION:Musée National de l’Automobile – Collection Schlumpf\, Mulhouse\, 17 rue de la Mertzau\, Mulhouse\, 68100\, France
CATEGORIES:Exposition
ATTACH;FMTTYPE=image/jpeg:https://mag.mulhouse-alsace.fr/wp-content/uploads/2026/04/2026-musee-national-de-lautomobile-exposition-formule-1.jpg
END:VEVENT
BEGIN:VEVENT
DTSTART;VALUE=DATE:20260501
DTEND;VALUE=DATE:20260503
DTSTAMP:20260424T204147
CREATED:20260220T135101Z
LAST-MODIFIED:20260220T135101Z
UID:10010464-1777593600-1777766399@mag.mulhouse-alsace.fr
SUMMARY:Mulhouse Fashion Week 2026 au Musée National de l'Automobile
DESCRIPTION:Mulhouse Fashion Week (MFW) 2026\nCette année\, la mode débarque là où personne ne l’attendait : au Musée National de l’Automobile – Collection Schlumpf. Entre carrosseries iconiques et silhouettes futuristes\, les créateurs réinventent la ligne\, la courbe et le mouvement. \nVendredi 1er et samedi 02 mai 2026\, le musée se transforme en capitale éphémère de la mode pour accueillir la Mulhouse Fashion Week (MFW) 2026\, un événement d’exception où l’art\, le design et l’innovation se rencontrent. \nPendant ces deux jours de défilés\, les allées emblématiques du musée vibrent au rythme de la créativité\, offrant un contraste saisissant entre l’histoire automobile et les tendances de demain. Plus de trente designers venus du monde entier présentent leurs nouvelles collections\, mêlant haute couture\, avant-garde\, artisanat d’excellence et visions futuristes. Des silhouettes audacieuses aux matières innovantes\, chaque créateur apporte son univers\, transformant le musée en véritable laboratoire d’esthétisme et d’expression culturelle. \nProgramme et défilés :\nVendredi 1er mai 2026 : \n\n18h00 : ouverture des portes et cocktail de bienvenue\,\n19h00 : défilé « Prêt-à-porter d’Avant-garde »\,\n20h30 : entracte (Le Paradis des Sources)\,\n21h00 : défilé « Haute Couture et Élégance »\,\n22h30 : clôture du jour 1.\n\nSamedi 02 mai 2026 :  \n\n18h00 : ouverture des portes et cocktail de bienvenue\,\n19h00 : défilé « Mode Éthique et Upcycling »\,\n20h30 : entracte chanteuse à voix\,\n21h30 : défilé clôture et révélation du « Prix Jeune Talent »\,\n22h30 : soirée de clôture.\n\nInformations pratiques :\n\nVendredi 1er mai 2026\,\nSamedi 02 mai 2026\,\nSur réservation.\n\nBilletterie \n\nLe Musée National de l’Automobile – Collection Schlumpf est un lieu unique\, chargé d’histoire\, celle deux de frères passionnés d’automobile : les Frères Schlumpf\, Hans et Fritz. C’est en 1957 que ces collectionneurs ont acquis la filature de laine peignée d’Erstein et la filature HKC à Mulhouse\, actuel lieu du musée. Fritz commence à collectionner les vieilles voitures. Les achats se multiplient après les années 1960\, l’usine de Mulhouse ferme et accueille la collection des frères\, considérée comme l’une des plus belles au monde. Ce n’est qu’en 1982 que le Musée National de l’Automobile ouvre ses portes\, après de nombreux périples. Aujourd’hui\, on comptabilise plus de 450 voitures d’exception.\nTout au long de l’année\, le Musée National de l’Automobile – Collection Schlumpf propose de nombreux événements\, expositions\, ateliers. \nDÉCOUVRIR TOUS LES ÉVÉNEMENTS DU MUSÉE
URL:https://mag.mulhouse-alsace.fr/evenement/mulhouse-fashion-week-2026-au-musee-national-de-lautomobile/
LOCATION:Musée National de l’Automobile – Collection Schlumpf\, Mulhouse\, 17 rue de la Mertzau\, Mulhouse\, 68100\, France
CATEGORIES:Festival et salon
ATTACH;FMTTYPE=image/jpeg:https://mag.mulhouse-alsace.fr/wp-content/uploads/2026/02/2026-mulhouse-fashion-week.jpg
END:VEVENT
BEGIN:VEVENT
DTSTART;TZID=Europe/Paris:20260523T180000
DTEND;TZID=Europe/Paris:20260523T220000
DTSTAMP:20260424T204147
CREATED:20260416T115333Z
LAST-MODIFIED:20260416T115743Z
UID:10010846-1779559200-1779573600@mag.mulhouse-alsace.fr
SUMMARY:"Dix musées\, mille regards" au Musée National de l'Automobile à Mulhouse
DESCRIPTION:Découvrez l’exposition proposée par le Musée National de l’Automobile – Collection Schlumpf à Mulhouse\, organisée dans le cadre de la 22e édition de la Nuit européenne des musées. \nExposition temporaire :\n« Formule 1 » \nNée en 1950\, la Formule 1 est à la fois un championnat sportif\, un laboratoire technologique et un mythe populaire mondial. Elle incarne plus de 70 ans d’innovations mécaniques\, aérodynamiques et humaines qui ont profondément marqué l’histoire de l’automobile. L’exposition présente environ cinquante monoplaces emblématiques\, couvrant l’ensemble de l’histoire de la Formule 1\, des origines aux années contemporaines. \nInformations pratiques :\n\nSamedi 23 mai 2026\,\nDe 18h00 à 22h00\,\nTarifs : 11 € par adulte et 7 € par enfant.\n\n\nDans le cadre de la 22e édition de la Nuit européenne des musées et du Bicentenaire de la Photographie\, m2A et les musées du territoire vous présentent « Dix musées\, mille regards ». Samedi 23 mai 2026\, venez participer à un événement inédit sur le thème de la photographie ! Entre activités\, visites et expositions\, découvrez de manière ludique les collections photographiques des musées ! \nDÉCOUVRIR LE PROGRAMME COMPLET
URL:https://mag.mulhouse-alsace.fr/evenement/dix-musees-mille-regards-au-musee-national-de-lautomobile-a-mulhouse-2026/
LOCATION:Musée National de l’Automobile – Collection Schlumpf\, Mulhouse\, 17 rue de la Mertzau\, Mulhouse\, 68100\, France
CATEGORIES:Exposition
ATTACH;FMTTYPE=image/jpeg:https://mag.mulhouse-alsace.fr/wp-content/uploads/2026/04/Bicentenaire-de-la-photographie_nuit_des_musees_1920x1080px.jpg
END:VEVENT
END:VCALENDAR