BEGIN:VCALENDAR
VERSION:2.0
PRODID:-//m2A le mag - Mulhouse Alsace Agglomération - ECPv6.15.11//NONSGML v1.0//EN
CALSCALE:GREGORIAN
METHOD:PUBLISH
X-WR-CALNAME:m2A le mag - Mulhouse Alsace Agglomération
X-ORIGINAL-URL:https://mag.mulhouse-alsace.fr
X-WR-CALDESC:Évènements pour m2A le mag - Mulhouse Alsace Agglomération
REFRESH-INTERVAL;VALUE=DURATION:PT1H
X-Robots-Tag:noindex
X-PUBLISHED-TTL:PT1H
BEGIN:VTIMEZONE
TZID:Europe/Paris
BEGIN:DAYLIGHT
TZOFFSETFROM:+0100
TZOFFSETTO:+0200
TZNAME:CEST
DTSTART:20220327T010000
END:DAYLIGHT
BEGIN:STANDARD
TZOFFSETFROM:+0200
TZOFFSETTO:+0100
TZNAME:CET
DTSTART:20221030T010000
END:STANDARD
BEGIN:DAYLIGHT
TZOFFSETFROM:+0100
TZOFFSETTO:+0200
TZNAME:CEST
DTSTART:20230326T010000
END:DAYLIGHT
BEGIN:STANDARD
TZOFFSETFROM:+0200
TZOFFSETTO:+0100
TZNAME:CET
DTSTART:20231029T010000
END:STANDARD
BEGIN:DAYLIGHT
TZOFFSETFROM:+0100
TZOFFSETTO:+0200
TZNAME:CEST
DTSTART:20240331T010000
END:DAYLIGHT
BEGIN:STANDARD
TZOFFSETFROM:+0200
TZOFFSETTO:+0100
TZNAME:CET
DTSTART:20241027T010000
END:STANDARD
BEGIN:DAYLIGHT
TZOFFSETFROM:+0100
TZOFFSETTO:+0200
TZNAME:CEST
DTSTART:20250330T010000
END:DAYLIGHT
BEGIN:STANDARD
TZOFFSETFROM:+0200
TZOFFSETTO:+0100
TZNAME:CET
DTSTART:20251026T010000
END:STANDARD
BEGIN:DAYLIGHT
TZOFFSETFROM:+0100
TZOFFSETTO:+0200
TZNAME:CEST
DTSTART:20260329T010000
END:DAYLIGHT
BEGIN:STANDARD
TZOFFSETFROM:+0200
TZOFFSETTO:+0100
TZNAME:CET
DTSTART:20261025T010000
END:STANDARD
END:VTIMEZONE
BEGIN:VEVENT
DTSTART;TZID=Europe/Paris:20250531T100000
DTEND;TZID=Europe/Paris:20250531T100000
DTSTAMP:20260419T135116
CREATED:20250325T090257Z
LAST-MODIFIED:20250325T090257Z
UID:10009654-1748685600-1748685600@mag.mulhouse-alsace.fr
SUMMARY:Sortie "Haie ho\, Haie ho\, on rentre du bouleau !" à Zimmersheim
DESCRIPTION:Haie ho\, Haie ho\, on rentre du bouleau !\nPartez à la découverte des essences et des haies qui bordent nos chemins et des fleurs qui pavent nos sentiers ! \nInformations pratiques :\n\n10h00\,\nDurée : 2h\,\nGratuit\,\nInscription obligatoire – 16 places disponibles\,\nLieu de rendez-vous : parking parc de la Courtine.\n\nJE M’INSCRIS \n\nCet événement fait partie du programme « La Nature près de chez moi »\, élaboré par les Centres d’Initiation à la Nature et à l’Environnement (CINE)\, le Moulin Nature et la Petite Camargue Alsacienne. Apprendre à connaître la nature pour mieux la protéger est un objectif du Plan Climat Nouvelle Donne m2A. \nTOUT LE PROGRAMME « LA NATURE PRÈS DE CHEZ MOI »  \n\n\nLe Moulin Nature est un Centre d’Initiation à la Nature et à l’Environnement (CINE). Nous y retrouvons des animations tous publics ainsi que des actions et une sensibilisation autour de la biodiversité.
URL:https://mag.mulhouse-alsace.fr/evenement/sortie-haie-ho-haie-ho-on-rentre-du-bouleau-a-zimmersheim-2025/
LOCATION:Parking du parc de la Courtine\, Zimmersheim\, Rue d'Eschentzwiller\, Zimmersheim\, 68386
CATEGORIES:Atelier
ATTACH;FMTTYPE=image/jpeg:https://mag.mulhouse-alsace.fr/wp-content/uploads/2025/03/haie-ho-haie-ho-on-rentre-du-bouleau-2025.jpg
END:VEVENT
BEGIN:VEVENT
DTSTART;TZID=Europe/Paris:20240911T100000
DTEND;TZID=Europe/Paris:20240911T100000
DTSTAMP:20260419T135116
CREATED:20240410T092523Z
LAST-MODIFIED:20240410T092541Z
UID:10008055-1726048800-1726048800@mag.mulhouse-alsace.fr
SUMMARY:Balade dans les collines présundgauviennes à Zimmersheim
DESCRIPTION:Baladez-vous dans les collines présundgauviennes à Zimmersheim : différents points de la balade vous permettront d’observer des baies dans les haies\, ou encore l’essences des arbres. \nInformations pratiques :\n\n10h00\nDurée : 2h\nGratuit\nInscription obligatoire – 16 places disponibles\n\nJE M’INSCRIS \n\nCet événement fait partie du programme « La Nature près de chez moi »\, élaboré par les Centres d’Initiation à la Nature et à l’Environnement (CINE)\, le Moulin Nature et la Petite Camargue Alsacienne. Apprendre à connaître la nature pour mieux la protéger est un objectif du Plan Climat Nouvelle Donne m2A. \nTOUT LE PROGRAMME « LA NATURE PRÈS DE CHEZ MOI » \n\n\nLe Moulin Nature est un Centre d’Initiation à la Nature et à l’Environnement (CINE). Nous y retrouvons des animations tous publics ainsi que des actions et une sensibilisation autour de la biodiversité.
URL:https://mag.mulhouse-alsace.fr/evenement/balade-dans-les-collines-presundgauviennes-a-zimmersheim-2024/
LOCATION:Parking du parc de la Courtine\, Zimmersheim\, Rue d'Eschentzwiller\, Zimmersheim\, 68386
CATEGORIES:Atelier
ATTACH;FMTTYPE=image/jpeg:https://mag.mulhouse-alsace.fr/wp-content/uploads/2024/04/la-nature-pres-de-chez-moi-balade-2024-1.jpg
END:VEVENT
BEGIN:VEVENT
DTSTART;TZID=Europe/Paris:20230923T090000
DTEND;TZID=Europe/Paris:20230923T090000
DTSTAMP:20260419T135116
CREATED:20230419T150437Z
LAST-MODIFIED:20230419T150437Z
UID:10002368-1695459600-1695459600@mag.mulhouse-alsace.fr
SUMMARY:Découverte d'une partie orientale du Horst sundgauvien à Zimmersheim
DESCRIPTION:Différents points de la balade permettent l’observation du paysage des collines sundgauviennes. Observation et reconnaissance des baies dans les haies\, essences d’arbres… \nS’INSCRIRE À L’ÉVÉNEMENT \n\nCet événement fait partie du programme « La Nature près de chez moi » organisé par le Moulin Nature de m2A à Lutterbach et la Petite Camargue Alsacienne. Apprendre à connaître la nature pour mieux la protéger est un objectif du Plan Climat Nouvelle Donne m2A. \nTOUT LE PROGRAMME « LA NATURE PRÈS DE CHEZ MOI » \n\nLe Moulin Nature est un Centre d’Initiation à la Nature et à l’Environnement (CINE). Nous y retrouvons des animations tous publics ainsi que des actions et une sensibilisation autour de la biodiversité. \n 
URL:https://mag.mulhouse-alsace.fr/evenement/decouverte-dune-partie-orientale-du-horst-sundgauvien-a-zimmersheim-2023/
LOCATION:Parking du parc de la Courtine\, Zimmersheim\, Rue d'Eschentzwiller\, Zimmersheim\, 68386
CATEGORIES:Atelier
ATTACH;FMTTYPE=image/jpeg:https://mag.mulhouse-alsace.fr/wp-content/uploads/2023/04/nature-pres-de-chez-moi-balade-nature-ps.jpg
END:VEVENT
END:VCALENDAR