BEGIN:VCALENDAR
VERSION:2.0
PRODID:-//m2A le mag - Mulhouse Alsace Agglomération - ECPv6.15.11//NONSGML v1.0//EN
CALSCALE:GREGORIAN
METHOD:PUBLISH
X-WR-CALNAME:m2A le mag - Mulhouse Alsace Agglomération
X-ORIGINAL-URL:https://mag.mulhouse-alsace.fr
X-WR-CALDESC:Évènements pour m2A le mag - Mulhouse Alsace Agglomération
REFRESH-INTERVAL;VALUE=DURATION:PT1H
X-Robots-Tag:noindex
X-PUBLISHED-TTL:PT1H
BEGIN:VTIMEZONE
TZID:Europe/Paris
BEGIN:DAYLIGHT
TZOFFSETFROM:+0100
TZOFFSETTO:+0200
TZNAME:CEST
DTSTART:20240331T010000
END:DAYLIGHT
BEGIN:STANDARD
TZOFFSETFROM:+0200
TZOFFSETTO:+0100
TZNAME:CET
DTSTART:20241027T010000
END:STANDARD
BEGIN:DAYLIGHT
TZOFFSETFROM:+0100
TZOFFSETTO:+0200
TZNAME:CEST
DTSTART:20250330T010000
END:DAYLIGHT
BEGIN:STANDARD
TZOFFSETFROM:+0200
TZOFFSETTO:+0100
TZNAME:CET
DTSTART:20251026T010000
END:STANDARD
BEGIN:DAYLIGHT
TZOFFSETFROM:+0100
TZOFFSETTO:+0200
TZNAME:CEST
DTSTART:20260329T010000
END:DAYLIGHT
BEGIN:STANDARD
TZOFFSETFROM:+0200
TZOFFSETTO:+0100
TZNAME:CET
DTSTART:20261025T010000
END:STANDARD
END:VTIMEZONE
BEGIN:VEVENT
DTSTART;TZID=Europe/Paris:20250930T140000
DTEND;TZID=Europe/Paris:20250930T170000
DTSTAMP:20260425T141818
CREATED:20250924T062654Z
LAST-MODIFIED:20250924T062654Z
UID:10010167-1759240800-1759251600@mag.mulhouse-alsace.fr
SUMMARY:Forum de l'emploi à Illzach
DESCRIPTION:Fleuris ton avenir\nMardi 30 septembre 2025 de 14h00 à 17h00\, venez rencontrer des employeurs\, des centres de formation et des acteurs de l’emploi lors d’un forum 100% local ! Au programme : rencontres et échanges\, orientation et conseils personnalisés\, offres d’emploi et formation. m2A participe à cet événement afin de mettre en avant ses métiers\, ses compétences et ses offres d’emploi : agent technique espaces verts au patrimoine sportif\, apprenti canalisateur\, mécanicien poids lourds\, carrossier peintre… \nInformations pratiques :\n\nPlace des Jonquilles (logements Néolia) – Illzach\,\nEntrée libre – priorité aux habitants du quartier.\n\nPLUS D’INFOS \n\nSituée dans le Haut-Rhin (Alsace)\, en région Grand Est\, Illzach est une commune membre de m2A. Elle dispose de nombreux espaces culturels\, sportifs\, associatifs ainsi qu’éducatifs. \nDÉCOUVRIR TOUS LES ÉVÉNEMENTS
URL:https://mag.mulhouse-alsace.fr/evenement/forum-emploi-a-illzach-2025/
LOCATION:Place des Jonquilles\, Illzach\, Rue des Jonquilles\, Illzach\, 68110\, France
CATEGORIES:Emploi
ATTACH;FMTTYPE=image/jpeg:https://mag.mulhouse-alsace.fr/wp-content/uploads/2024/12/recrutement-salon-de-lemploi-m2a-2025-parc-expo-mulhouse.jpg
END:VEVENT
END:VCALENDAR