BEGIN:VCALENDAR
VERSION:2.0
PRODID:-//m2A le mag - Mulhouse Alsace Agglomération - ECPv6.15.11//NONSGML v1.0//EN
CALSCALE:GREGORIAN
METHOD:PUBLISH
X-WR-CALNAME:m2A le mag - Mulhouse Alsace Agglomération
X-ORIGINAL-URL:https://mag.mulhouse-alsace.fr
X-WR-CALDESC:Évènements pour m2A le mag - Mulhouse Alsace Agglomération
REFRESH-INTERVAL;VALUE=DURATION:PT1H
X-Robots-Tag:noindex
X-PUBLISHED-TTL:PT1H
BEGIN:VTIMEZONE
TZID:Europe/Paris
BEGIN:DAYLIGHT
TZOFFSETFROM:+0100
TZOFFSETTO:+0200
TZNAME:CEST
DTSTART:20240331T010000
END:DAYLIGHT
BEGIN:STANDARD
TZOFFSETFROM:+0200
TZOFFSETTO:+0100
TZNAME:CET
DTSTART:20241027T010000
END:STANDARD
BEGIN:DAYLIGHT
TZOFFSETFROM:+0100
TZOFFSETTO:+0200
TZNAME:CEST
DTSTART:20250330T010000
END:DAYLIGHT
BEGIN:STANDARD
TZOFFSETFROM:+0200
TZOFFSETTO:+0100
TZNAME:CET
DTSTART:20251026T010000
END:STANDARD
BEGIN:DAYLIGHT
TZOFFSETFROM:+0100
TZOFFSETTO:+0200
TZNAME:CEST
DTSTART:20260329T010000
END:DAYLIGHT
BEGIN:STANDARD
TZOFFSETFROM:+0200
TZOFFSETTO:+0100
TZNAME:CET
DTSTART:20261025T010000
END:STANDARD
END:VTIMEZONE
BEGIN:VEVENT
DTSTART;TZID=Europe/Paris:20251116T083000
DTEND;TZID=Europe/Paris:20251116T120000
DTSTAMP:20260422T174011
CREATED:20251014T143323Z
LAST-MODIFIED:20251014T143323Z
UID:10010257-1763281800-1763294400@mag.mulhouse-alsace.fr
SUMMARY:Course de la Sainte Barbe 2025 à Wittelsheim
DESCRIPTION:Dimanche 16 novembre 2025\, la Ville de Wittelsheim accueille la 23e édition de la Course de la Sainte Barbe\, un rendez-vous incontournable pour tous les amateurs de course à pied\, qu’ils soient débutants ou confirmés\, adultes\, enfants et handisports. Organisée par le service des sports de la ville\, cette course emblématique attire chaque année entre 600 et 800 participants. La Course de la Sainte Barbe est ouverte à tous\, pour une journée sportive conviviale. \nCourses :\n\nÉcole d’athlétisme :\n\nCourse d’1 tour\, soit 1 000 m\, pour les enfants nés de 2015 à 2017. Prix : 2 €. Départ à partir de 08h45. Participation selon règlement. \n\nPoussins :\n\nCourse d’1 tour\, soit 1 000 m\, pour les enfants nés de 2013 à 2014. Prix : 2 €. Départ à partir de 08h45. Participation selon règlement. \n\nBenjamins :\n\nCourse de 2 tours\, soit 2 000 m\, pour les enfants nés de 2011 à 2012. Prix : 2 €. Départ à partir de 08h45. Participation selon règlement. \n\nMinimes :\n\nCourse de 3 tours\, soit 3 000 m\, pour les enfants nés de 2009 à 2010. Prix : 2 €. Départ à partir de 08h45. Participation selon règlement. \n\nHandisport : \n\n\n\nCourse de 5 km. Prix : 10 €. Départ à 9h50. Participation selon règlement. \n\n\n\n\n\n10 km :\n\nBoucle de 10 km. Départ à 10h00. Prix : 10 €. Participation selon règlement. \n\n\nPLUS D’INFOS \n\nSituée dans le Haut-Rhin (Alsace)\, en région Grand Est\, Wittelsheim est une commune disposant d’un périscolaire\, d’écoles\, de collèges\, d’un lycée\, d’associations\, de commerces\, d’entreprises ainsi qu’une bibliothèque. Son développement économique et industriel est dû à la découverte et l’exploitation des mines de potasse. \nDÉCOUVRIR TOUS LES ÉVÉNEMENTS
URL:https://mag.mulhouse-alsace.fr/evenement/course-de-la-sainte-barbe-2025-a-wittelsheim/
LOCATION:Salle Pierre Albouy\, Wittelsheim\, Rue de Reiningue\, Wittelsheim\, 68310\, France
CATEGORIES:Sport
ATTACH;FMTTYPE=image/jpeg:https://mag.mulhouse-alsace.fr/wp-content/uploads/2025/10/affiche-course-sainte-barbe-wittelsheim-2025.jpg
END:VEVENT
END:VCALENDAR