BEGIN:VCALENDAR
VERSION:2.0
PRODID:-//m2A le mag - Mulhouse Alsace Agglomération - ECPv6.15.11//NONSGML v1.0//EN
CALSCALE:GREGORIAN
METHOD:PUBLISH
X-WR-CALNAME:m2A le mag - Mulhouse Alsace Agglomération
X-ORIGINAL-URL:https://mag.mulhouse-alsace.fr
X-WR-CALDESC:Évènements pour m2A le mag - Mulhouse Alsace Agglomération
REFRESH-INTERVAL;VALUE=DURATION:PT1H
X-Robots-Tag:noindex
X-PUBLISHED-TTL:PT1H
BEGIN:VTIMEZONE
TZID:Europe/Paris
BEGIN:DAYLIGHT
TZOFFSETFROM:+0100
TZOFFSETTO:+0200
TZNAME:CEST
DTSTART:20240331T010000
END:DAYLIGHT
BEGIN:STANDARD
TZOFFSETFROM:+0200
TZOFFSETTO:+0100
TZNAME:CET
DTSTART:20241027T010000
END:STANDARD
BEGIN:DAYLIGHT
TZOFFSETFROM:+0100
TZOFFSETTO:+0200
TZNAME:CEST
DTSTART:20250330T010000
END:DAYLIGHT
BEGIN:STANDARD
TZOFFSETFROM:+0200
TZOFFSETTO:+0100
TZNAME:CET
DTSTART:20251026T010000
END:STANDARD
BEGIN:DAYLIGHT
TZOFFSETFROM:+0100
TZOFFSETTO:+0200
TZNAME:CEST
DTSTART:20260329T010000
END:DAYLIGHT
BEGIN:STANDARD
TZOFFSETFROM:+0200
TZOFFSETTO:+0100
TZNAME:CET
DTSTART:20261025T010000
END:STANDARD
BEGIN:DAYLIGHT
TZOFFSETFROM:+0100
TZOFFSETTO:+0200
TZNAME:CEST
DTSTART:20270328T010000
END:DAYLIGHT
BEGIN:STANDARD
TZOFFSETFROM:+0200
TZOFFSETTO:+0100
TZNAME:CET
DTSTART:20271031T010000
END:STANDARD
END:VTIMEZONE
BEGIN:VEVENT
DTSTART;TZID=Europe/Paris:20260328T100000
DTEND;TZID=Europe/Paris:20260328T170000
DTSTAMP:20260423T000310
CREATED:20260316T153004Z
LAST-MODIFIED:20260316T153004Z
UID:10010734-1774692000-1774717200@mag.mulhouse-alsace.fr
SUMMARY:Portes ouvertes spéciales chiens à la SPA à Mulhouse
DESCRIPTION:Suite à la l’augmentation des abandons de chiens\, la Société Protectrice des Animaux (SPA) de Mulhouse Haute-Alsace propose des portes ouvertes\, samedi 28 mars 2026. Cette journée a lieu afin de faire découvrir les pensionnaires canins prêts à l’adoption lors de rencontres avec le public et d’un joli défilé encadré par les bénévoles. \nAttention : les chatteries ne sont pas ouvertes au public le matin mais uniquement de 14h00 à 16h00\, comme tous les samedis. \nAu programme :\n10h00 : Accueil des visiteurs. \n11h00 : Début des balades avec les pensionnaires canins (30 minutes). \n\n2 vagues décalées de 15 minutes pour éviter les croisements : vague 1 à 11h00 (6 chiens) et vague 2 à 11h15 (7 chiens)\,\nRetour : vague 1 à 11h30 et vague 2 à 11h45.\n\n12h00 : Pause repas et moment convivial. \n\nOuverture de la buvette et de l’espace restauration\,\nMoment d’échanges avec les visiteurs\,\nPrésentation des chiens disponibles à l’adoption.\n\n13h30 : Des adoptants (bénévoles ou non) partagent leur expérience d’adoption à la SPA de Mulhouse et racontent leur histoire avec leur chien. \n14h30 : Défilé des chiens au parc. \n\nDurée : 40 minutes\,\nL’objectif est de présenter les chiens à adopter\,\nChaque chien défile avec un bénévole et une courte présentation est faite\,\nOrganisation : 3 à 4 minutes par chien\,\nPrésentation du pensionnaire canin\,\nRéponses aux questions du public.\n\n15h30 : Rencontres et nouvelles balades. \n\nLes visiteurs peuvent rencontrer les chiens\, poser leurs questions et participer à de nouvelles balades\,\nOrganisation des balades : vague 1 à 15h30 (6 chiens) et vague 2 à 15h45 (7 chiens)\,\nRetour : vague 1 à 16h00 et vague 2 à 16h15.\n\nInformations pratiques :\n\nSamedi 28 mars 2026\,\nDe 10h00 à 17h00\,\nEntrée libre\,\nDes pâtisseries réalisées par les bénévoles sont proposées.\n\nPLUS D’INFOS \n\nCréée en 1900\, la Société Protectrice des Animaux (SPA) de Mulhouse Haute-Alsace est une association à but non lucratif qui privilégie le bien-être animal. Ce refuge permet d’accueillir une centaine de chats et plus de 50 chiens\, en attendant de trouver une nouvelle famille. \nDÉCOUVRIR TOUS LES ÉVÉNEMENTS
URL:https://mag.mulhouse-alsace.fr/evenement/portes-ouvertes-speciales-chiens-a-la-spa-a-mulhouse-2026/
LOCATION:SPA\, Mulhouse\, 21 rue Edouard Singer\, Mulhouse\, 68100\, France
CATEGORIES:Portes ouvertes
ATTACH;FMTTYPE=image/jpeg:https://mag.mulhouse-alsace.fr/wp-content/uploads/2026/03/2026-porte-ouvertes-SPA-mulhouse.jpg
END:VEVENT
BEGIN:VEVENT
DTSTART;TZID=Europe/Paris:20251206T100000
DTEND;TZID=Europe/Paris:20251206T180000
DTSTAMP:20260423T000310
CREATED:20251125T153619Z
LAST-MODIFIED:20251125T153619Z
UID:10010451-1765015200-1765044000@mag.mulhouse-alsace.fr
SUMMARY:Le Noël des animaux à la SPA Mulhouse Haute-Alsace
DESCRIPTION:Le Noël des animaux de la SPA Mulhouse Haute-Alsace a lieu samedi 06 décembre 2025\, de 10h00 à 18h00\, au siège du refuge. \nDe belles surprises vous attendent :\n\nSapin de Noël où déposer les cadeaux pour les pensionnaires canins et félins ;\nMarché de Noël artisanal pour toute la famille ;\nRestauration (flammbaguettes\, soupe\, vin chaud\, bredalas…) ;\nBoutique d’accessoires de seconde main pour chiens et chats\, vente de goodies\, au profit des animaux ;\nVisites guidées du refuge ;\nPetite brocante.\n\nInformations pratiques :\n\nEntrée libre\,\nLes chiens extérieurs au refuge (même portés) ne seront malheureusement pas admis dans les locaux ce jour-là.\n\n\nTout au long de la période des fêtes de fin d’année\, de nombreux marchés de Noël et animations sont à découvrir dans les différentes communes de l’Agglomération. \nDÉCOUVRIR LES ANIMATIONS DE NOËL
URL:https://mag.mulhouse-alsace.fr/evenement/le-noel-des-animaux-a-la-spa-de-mulhouse-haute-alsace-2025/
LOCATION:SPA\, Mulhouse\, 21 rue Edouard Singer\, Mulhouse\, 68100\, France
CATEGORIES:Noël
ATTACH;FMTTYPE=image/jpeg:https://mag.mulhouse-alsace.fr/wp-content/uploads/2025/11/noel-spa-mulhouse-2025.jpg
END:VEVENT
END:VCALENDAR